BEGIN:VCALENDAR
PRODID:NingEventWidget-v1
VERSION:2.0
METHOD:PUBLISH
BEGIN:VTIMEZONE
TZID:Europe/Paris
X-LIC-LOCATION:Europe/Paris
BEGIN:DAYLIGHT
TZOFFSETFROM:+0100
TZOFFSETTO:+0200
TZNAME:CEST
DTSTART:19700329T020000
RRULE:FREQ=YEARLY;BYMONTH=3;BYDAY=-1SU
END:DAYLIGHT
BEGIN:STANDARD
TZOFFSETFROM:+0200
TZOFFSETTO:+0100
TZNAME:CET
DTSTART:19701025T030000
RRULE:FREQ=YEARLY;BYMONTH=10;BYDAY=-1SU
END:STANDARD
END:VTIMEZONE
BEGIN:VEVENT
UID:2485226:Event:2837837
DTSTAMP:20260424T184212Z
SUMMARY:Jeu, Joue, Joie ! Biodanza Corfou
DESCRIPTION:\nAvec ou sans enfant, rencontrer l’esprit d’enfance q
 ui se réjouit de tout, s’émerveille, accueille et aime incondition
 nellement, qui vit son identité avec intensité et intégrité.\nQuan
 d: du 15 au 21 octobre 2017 \nQuoi: stage de Biodanza\nDétails: ouve
 rt aux adultes et aux enfants, les accompagnants vacanciers sont bienv
 enus.\n \nPour plus d'informations appelez au +41 78 686 12 96 ou f
 ixe +41 24 425 96 13 Ariane Péclard-Sahli. \n\nPour plus d'informa
 tion, aller sur https://epanews.fr/events/jeu-joue-joie-biodanza-corfo
 u
DTSTART;TZID=Europe/Paris:20171015T000000
DTEND;TZID=Europe/Paris:20171021T235900
CATEGORIES:tous
LOCATION:Haute Savoie, Mieussy France
WEBSITE:
URL:
CONTACT:+41 78 686 12 96
ORGANIZER;CN="Ariane Péclard-Sahli":https://epanews.fr/profile/Ariane
 PeclardSahli
ATTACH;FMTTYPE="image/jpeg":http://storage.ning.com/topology/rest/1.0/
 file/get/1663672583?profile=original
ATTENDEE;ROLE=REQ-PARTICIPANT;PARTSTAT=ACCEPTED;RSVP=TRUE;CN="Ariane P
 éclard-Sahli":https://epanews.fr/profile/ArianePeclardSahli
END:VEVENT
END:VCALENDAR
