BEGIN:VCALENDAR
PRODID:NingEventWidget-v1
VERSION:2.0
METHOD:PUBLISH
BEGIN:VTIMEZONE
TZID:Europe/Paris
X-LIC-LOCATION:Europe/Paris
BEGIN:DAYLIGHT
TZOFFSETFROM:+0100
TZOFFSETTO:+0200
TZNAME:CEST
DTSTART:19700329T020000
RRULE:FREQ=YEARLY;BYMONTH=3;BYDAY=-1SU
END:DAYLIGHT
BEGIN:STANDARD
TZOFFSETFROM:+0200
TZOFFSETTO:+0100
TZNAME:CET
DTSTART:19701025T030000
RRULE:FREQ=YEARLY;BYMONTH=10;BYDAY=-1SU
END:STANDARD
END:VTIMEZONE
BEGIN:VEVENT
UID:2485226:Event:2449215
DTSTAMP:20260423T113528Z
SUMMARY:jeu du tao
DESCRIPTION:- LUNDI 19 OCTOBRE : Jeu du Tao (Latour Bas Elne)LE BUT DU
  JEU. Le Jeu du Tao te propose d'énoncer une quête personnelle pui
 s de la mettre en mouvement à travers un parcours de questions. Chaqu
 e question est accompagnée d'un texte qui t'aidera à en clarifier le
 s enjeux notamment par des renvois à différents mondes. Le monde d
 e la Terre lui permet de préciser, clarifier sa quête, Le monde de
  l'Eau éclaire ses ressources, ses forces, Le monde du Feu le confr
 onte à ses freins, ses obstacles, Le monde de l'Air le fait réflé
 chir sur le prix à payer et son engagement. Enfin, tu seras invité
  à tirer des oracles qui te mèneront à prendre des engagements conc
 rets pour réaliser ta quête. Type de quêtes non exhaustives du jeu 
 du TaoQuêtes matérielles et sociales : Réussir ma vie professionnel
 le, Réussir ensemble un projet. Avoir une belle maison. Arrêter de f
 umer, boire. Créer une entreprise. Changer de métier...Quêtes \"spi
 rituelles\" : Trouver le meilleur de moi-même. Apprendre à dire «no
 n ».Vivre de mes talents. Vivre en Harmonie. Vaincre ma peur des autr
 es. Lâcher prise...Quêtes affectives : Me réconcilier avec un paren
 t. Avoir une sexualité épanouie. Comprendre mon conjoint, mon enfant
 ... Faire le deuil de...Résoudre un conflitAccepter une rupture, un d
 ivorce. Fonder une famille. Changer de vie...Quêtes de création : Pr
 atiquer un art, chanter, danser, peindre, sculpter, faire du théâtre
  ou de la musique. Être plus créatif, inventer, Créer un spectacle.
  Construire un village. Participer à une ouvre collectiveBilan d'un j
 oueurL'intelligence collective au service de tous, et......par expéri
 ence je peu dire que les associations d'idée font avancer dans notre 
 quête, j'ai assisté à un jeu et pour des raisons personnelles j'ai 
 choisi une quête dont je connaissais les tenant et le aboutissant...d
 onc je pensais que tout était fait...........et ho !!! surprise aprè
 s le jeu ma réflexion m'a aider à accélérer les choses....... et v
 u le bien être ressenti et l'évolution de la situation je remercie c
 haleureusement  tous ceux et celles qui ont contribué à cela merci 
 tout particulier à Claude qui anime les jeux tout en veillant au resp
 ect et au bien être de chacun. bien à vous tous et à vous toutes\n\
 nPour plus d'information, aller sur https://epanews.fr/events/jeu-du-t
 ao-13
DTSTART;TZID=Europe/Paris:20151019T110000
DTEND;TZID=Europe/Paris:20151019T170000
CATEGORIES:66
LOCATION:Latour Bas Elne
WEBSITE:https://www.google.fr/maps/place/15+Avenue+Pierre+Camps,+66200
 +Latour-Bas-Elne/data=!4m2!3m1!1s0x12b07bed2068db1b:0x4ac10097ed6c2c00
 ?sa=X&ved=0CBwQ8gEwAGoVChMIip3Hk7TGyAIVSVgUCh3LSg-c
URL:https://www.google.fr/maps/place/15+Avenue+Pierre+Camps,+66200+Lat
 our-Bas-Elne/data=!4m2!3m1!1s0x12b07bed2068db1b:0x4ac10097ed6c2c00?sa=
 X&ved=0CBwQ8gEwAGoVChMIip3Hk7TGyAIVSVgUCh3LSg-c
CONTACT:
ORGANIZER;CN=frigioman:https://epanews.fr/profile/frigioman936
ATTACH;FMTTYPE="image/jpeg":http://storage.ning.com/topology/rest/1.0/
 file/get/1663467285?profile=original
ATTENDEE;ROLE=REQ-PARTICIPANT;PARTSTAT=ACCEPTED;RSVP=TRUE;CN=frigioman
 :https://epanews.fr/profile/frigioman936
END:VEVENT
END:VCALENDAR
