BEGIN:VCALENDAR
PRODID:NingEventWidget-v1
VERSION:2.0
METHOD:PUBLISH
BEGIN:VTIMEZONE
TZID:Europe/Paris
X-LIC-LOCATION:Europe/Paris
BEGIN:DAYLIGHT
TZOFFSETFROM:+0100
TZOFFSETTO:+0200
TZNAME:CEST
DTSTART:19700329T020000
RRULE:FREQ=YEARLY;BYMONTH=3;BYDAY=-1SU
END:DAYLIGHT
BEGIN:STANDARD
TZOFFSETFROM:+0200
TZOFFSETTO:+0100
TZNAME:CET
DTSTART:19701025T030000
RRULE:FREQ=YEARLY;BYMONTH=10;BYDAY=-1SU
END:STANDARD
END:VTIMEZONE
BEGIN:VEVENT
UID:2485226:Event:1113089
DTSTAMP:20260422T125801Z
SUMMARY:Jeu de la Transformation
DESCRIPTION:En ce temps de voeux et de \"bonnes\" résolutions,  Le Je
 u de la Transformation est une belle opportunité d'éclaircir une que
 stion que vous vous posez, d'avancer sur un projet qui vous tient à c
 oeur, d'explorer un problème avec d'autres perspectives, ou simplemen
 t de vous poser avec vous-mêmes, dans une ambiance de bienveillance e
 t d'authenticité.\n\nPour plus d'information, aller sur https://epane
 ws.fr/events/jeu-de-la-transformation-5
DTSTART;TZID=Europe/Paris:20130119T100000
DTEND;TZID=Europe/Paris:20130120T160000
CATEGORIES:12
LOCATION:Calmels et le Viala (près de St Affrique)
WEBSITE:http://www.couventduviala.com
URL:http://www.couventduviala.com
CONTACT:05 65 99 17 70
ORGANIZER;CN="Isabelle D":https://epanews.fr/profile/IsabelleD
ATTACH;FMTTYPE="image/jpeg":http://storage.ning.com/topology/rest/1.0/
 file/get/1662732647?profile=original
ATTENDEE;ROLE=REQ-PARTICIPANT;PARTSTAT=ACCEPTED;RSVP=TRUE;CN="Isabelle
  D":https://epanews.fr/profile/IsabelleD
END:VEVENT
END:VCALENDAR
