BEGIN:VCALENDAR
PRODID:NingEventWidget-v1
VERSION:2.0
METHOD:PUBLISH
BEGIN:VTIMEZONE
TZID:Europe/Paris
X-LIC-LOCATION:Europe/Paris
BEGIN:DAYLIGHT
TZOFFSETFROM:+0100
TZOFFSETTO:+0200
TZNAME:CEST
DTSTART:19700329T020000
RRULE:FREQ=YEARLY;BYMONTH=3;BYDAY=-1SU
END:DAYLIGHT
BEGIN:STANDARD
TZOFFSETFROM:+0200
TZOFFSETTO:+0100
TZNAME:CET
DTSTART:19701025T030000
RRULE:FREQ=YEARLY;BYMONTH=10;BYDAY=-1SU
END:STANDARD
END:VTIMEZONE
BEGIN:VEVENT
UID:2485226:Event:2472609
DTSTAMP:20260420T022117Z
SUMMARY:\"Jeu de l'entraide & intuition\", dimanche 8 novembre, 15h Ã 
  18h, dans un cafÃ©
DESCRIPTION:DIMANCHE 8/11 et SAMEDI 12/12, (re)dÃ©couvrez le \"JEU DE 
 L'ENTRAIDE & INTUITION\" coanimÃ© par Laurence Simenot et Sophie Lemos
 ofâ€‹...Envie de parler de toi/vous, d'Ãªtre utile/aidant(e), d'Ãªtre 
 inspirÃ©(e)/ressourÃ§Ã©(e),reboostÃ©(e) dans l'estime/la confiance en 
 soi/toi/vous ?Alors, venez partager un moment autour du \"JEU DE L'ENT
 RAIDE\" pour Ã©changer/se dire en vÃ©ritÃ©/confidences dans l'intime d
 e soi dans un cadre plein de douceur et de respect.Sophie et moi-mÃªme
  vous accueillerontDIMANCHE 8 Novembre 2015De 15h Ã  18h â€“ CafÃ© \"L
 A GITANE\" - Salle au 1er Ã©tageMÂ° Jourdain - Ligne 11et SAMEDI 12 DÃ
 ©cembre 2015De 10h Ã  13h (Dans le 19Ã¨me ou 20Ã¨me : adresse Ã  prÃ©c
 iser)---PARTICIPATION : 30 euros + Consommation Ã  prÃ©voir.25 euros p
 ar personne si vous venez Ã  plusieurs...Merci de me prÃ©venir de votr
 e venue jusqu'Ã  la veille :laurence.simenot@wanadoo.frou venez direct
 ement si vous vous dÃ©cidez au dernier instant------Un Jeu fort apprÃ©
 ciÃ© par les enfants de 8 Ã  15 ans(qui disent que \"c'est un jeu qui 
 rend heureux\").Un Jeu fort utile et goÃ»tÃ© par les \"accompagnants\"
 (ThÃ©rapeutes, coachs, enseignants, parents, en relation d'aide...)et 
 par toute personne ayant ujste envie/besoin d'un cadre bienveillantpou
 r enfin se dire, Ãªtre Ã©coutÃ©, voir s'offrir des recadragesavec resp
 ect, bienveillance..Je constate au fur et Ã  mesure que ce sontde beau
 x moments de pur partage, un bain de bienveillancedans lequel chacun Ã
   apporte Ã  l'autre..J'aime ces moments d'Ã©changes authentiques, sin
 cÃ¨res et profonds,oÃ¹ chacun s'enrichit de l'expÃ©rience de l'autre.J
 'accueille comme une grÃ¢ce ces moments dans lesquels chacun donne le 
 meilleur de lui-mÃªme pour le bien de l'autre et de tous au final.Alor
 s, si vous aussi vous avez envie de (re)vivre un tel moment dans un do
 nner/recevoir plein de prÃ©sence, de conscience et de coeur,Sophie et 
 moi-mÃªme seront ravies de vous (re)voir.Belle journÃ©e et le meilleur
  pour tous les jours Ã  venir.De tout coeur. LaurenceSite : \"Au centr
 e de soi\"www.laurencesimenot.fr\n\nPour plus d'information, aller sur
  https://epanews.fr/events/jeu-de-l-entraide-intuition-dimanche-8-nove
 mbre-15h-18h-dans-un
DTSTART;TZID=Europe/Paris:20151108T150000
DTEND;TZID=Europe/Paris:20151108T180000
CATEGORIES:75
LOCATION:cafÃ© \"la gitane\", 3 rue Lassus, paris 20- MÂ° jourdain
WEBSITE:
URL:
CONTACT:
ORGANIZER;CN="Laurence Simenot":https://epanews.fr/profile/LaurenceSim
 enot
ATTACH;FMTTYPE="image/jpeg":http://storage.ning.com/topology/rest/1.0/
 file/get/1663478841?profile=original
ATTENDEE;ROLE=REQ-PARTICIPANT;PARTSTAT=ACCEPTED;RSVP=TRUE;CN="Laurence
  Simenot":https://epanews.fr/profile/LaurenceSimenot
END:VEVENT
END:VCALENDAR
