BEGIN:VCALENDAR
PRODID:NingEventWidget-v1
VERSION:2.0
METHOD:PUBLISH
BEGIN:VTIMEZONE
TZID:Europe/Paris
X-LIC-LOCATION:Europe/Paris
BEGIN:DAYLIGHT
TZOFFSETFROM:+0100
TZOFFSETTO:+0200
TZNAME:CEST
DTSTART:19700329T020000
RRULE:FREQ=YEARLY;BYMONTH=3;BYDAY=-1SU
END:DAYLIGHT
BEGIN:STANDARD
TZOFFSETFROM:+0200
TZOFFSETTO:+0100
TZNAME:CET
DTSTART:19701025T030000
RRULE:FREQ=YEARLY;BYMONTH=10;BYDAY=-1SU
END:STANDARD
END:VTIMEZONE
BEGIN:VEVENT
UID:2485226:Event:2286408
DTSTAMP:20260423T082621Z
SUMMARY:je vous convie à une séance de soins énergétiques à dista
 nce
DESCRIPTION:Bonjour à tous,\nque vous soyez en France ou à l'étrang
 er, je vous convie à une séance de soins énergétiques à distance 
 Le VENDREDI 10 AVRIL ,de 20 h à 20 h 20' (heure de Paris). Pour les p
 ersonnes qui ne résident pas en France, je vous joins un lien sur leq
 uel vous trouverez les décalages horaires : http://24timezones.com/ho
 rloge_mondiale.php  Le soin  favorise un retour à l’équilibre et 
 à l’harmonie de l'être dans sa globalité. Il agit sur tous les pl
 ans (physique, mental, émotionnel et spirituel) grâce aux fréquence
 s vibratoires de l'énergie qui sont réactivées. La personne est don
 c ré-alignée, ré-équilibrée selon la théorie des cordes en physi
 que quantique. je vous remercie de bien vouloir vous inscrire (nom, pr
 énom et lieu de résidence ) en m'envoyant un mail à fcbourguignon@g
 mail.com en précisant \"OUI, JE PARTICIPE\". Si vous le souhaitez, ap
 rès la séance, vous pourrez  partager votre vécu   durant la sé
 ance … Ceci n’est évidemment n’est pas une obligation.  A vendr
 edi ! http://fcbourguignon.wix.com/reconnexion\n\nPour plus d'informat
 ion, aller sur https://epanews.fr/events/je-vous-convie-une-s-ance-de-
 soins-nerg-tiques-distance
DTSTART;TZID=Europe/Paris:20150410T200000
DTEND;TZID=Europe/Paris:20150410T203000
CATEGORIES:tous
LOCATION:http://fcbourguignon.wix.com/reconnexion
WEBSITE:
URL:
CONTACT:
ORGANIZER;CN="françois-christophe bourguignon":https://epanews.fr/pro
 file/francoischristophebourguignon
ATTACH;FMTTYPE="image/jpeg":http://storage.ning.com/topology/rest/1.0/
 file/get/1663369264?profile=original
ATTENDEE;ROLE=REQ-PARTICIPANT;PARTSTAT=ACCEPTED;RSVP=TRUE;CN="françoi
 s-christophe bourguignon":https://epanews.fr/profile/francoischristoph
 ebourguignon
END:VEVENT
END:VCALENDAR
