BEGIN:VCALENDAR
PRODID:NingEventWidget-v1
VERSION:2.0
METHOD:PUBLISH
BEGIN:VTIMEZONE
TZID:Europe/Paris
X-LIC-LOCATION:Europe/Paris
BEGIN:DAYLIGHT
TZOFFSETFROM:+0100
TZOFFSETTO:+0200
TZNAME:CEST
DTSTART:19700329T020000
RRULE:FREQ=YEARLY;BYMONTH=3;BYDAY=-1SU
END:DAYLIGHT
BEGIN:STANDARD
TZOFFSETFROM:+0200
TZOFFSETTO:+0100
TZNAME:CET
DTSTART:19701025T030000
RRULE:FREQ=YEARLY;BYMONTH=10;BYDAY=-1SU
END:STANDARD
END:VTIMEZONE
BEGIN:VEVENT
UID:2485226:Event:2307617
DTSTAMP:20260425T193210Z
SUMMARY:jeûner en mai 4 jours trièves isère règénèration
DESCRIPTION:jeûne réparateur et régulateur\n4 jours de pause dans u
 n repos complet de l'organisme\naccueil en gite dans le sud Isère  1
 2places\ntarif en libre participation + hébergement 25€ par jour\nA
 ccompagnantes : Naturopathe et Animatrice sport et bien-être\n Ateli
 er de jus,soins purifiants et relaxants, gym douce de saison rate esto
 mac,balades et respirations, créations, relaxations guidées, auto-ma
 ssage, hydrothérapie du colon...\n\nPour plus d'information, aller su
 r https://epanews.fr/events/je-ner-en-mai-s-jour-4-jours-tri-ves-is-re
 -r-g-n-ration
DTSTART;TZID=Europe/Paris:20150514T210000
DTEND;TZID=Europe/Paris:20150517T130000
CATEGORIES:38
LOCATION:cornillon en trièves
WEBSITE:http://lafermedalcidie
URL:http://lafermedalcidie
CONTACT:06 87 61 21 71
ORGANIZER:marie et Dominique
ATTACH;FMTTYPE="image/jpeg":
ATTENDEE;ROLE=REQ-PARTICIPANT;PARTSTAT=ACCEPTED;RSVP=TRUE;CN=marie:htt
 ps://epanews.fr/profile/mademoiselle657
END:VEVENT
END:VCALENDAR
