BEGIN:VCALENDAR
PRODID:NingEventWidget-v1
VERSION:2.0
METHOD:PUBLISH
BEGIN:VTIMEZONE
TZID:Europe/Paris
X-LIC-LOCATION:Europe/Paris
BEGIN:DAYLIGHT
TZOFFSETFROM:+0100
TZOFFSETTO:+0200
TZNAME:CEST
DTSTART:19700329T020000
RRULE:FREQ=YEARLY;BYMONTH=3;BYDAY=-1SU
END:DAYLIGHT
BEGIN:STANDARD
TZOFFSETFROM:+0200
TZOFFSETTO:+0100
TZNAME:CET
DTSTART:19701025T030000
RRULE:FREQ=YEARLY;BYMONTH=10;BYDAY=-1SU
END:STANDARD
END:VTIMEZONE
BEGIN:VEVENT
UID:2485226:Event:955875
DTSTAMP:20260419T151234Z
SUMMARY:Jeûne & Prana
DESCRIPTION:Retrouve le bonheur de Jeûner\nLache prise à la nourritu
 re solidedurant quelques jours...et retrouve qui tu es...\n(demi-jeûn
 e possible pour les débutants ou les récalcitrants) le but de cette 
 expérience étant de \"vivre une merveilleuse aventure humaine\" \nV
 iens...dépose tes poids, fais le point, retrouve tes repères...\nRed
 écouvre le Prana \nEnergie de vie présente dans tout ce qui est...d
 ans la terre, dans l'air, en toi,autour de toi...\nPar des exercies ap
 propriés : prise de conscience du Prana \"comment le capter pour s'en
  nourrir et revitaliser tes cellules en profondeur\nMéditation passiv
 e : prise de conscience de ton corps et de cette force vitale qui circ
 ule dans tes milliards de cellules\nRepos, détente, conseils, accompa
 gnement pour une reprise alimentaire saine et équilibrée\nMassages d
 étoxinants, soins \"Fréquences de brillance\"\nLogement dans petit c
 halet individuel (très bon pour repos au calme)\n390€ une semaine t
 out compris : logement en petit chalet individuel, accompagnement par 
 thérapeute, guide de jeûne et en processus pranique\n(d'autres thér
 apeute sur le lieu du site pour te proposer des soins selon tes besoin
 s)\nNous t'accompagnons avec simplicité, amour, bienveillance...\n\nP
 our plus d'information, aller sur https://epanews.fr/events/je-ne-pran
 a
DTSTART;TZID=Europe/Paris:20121119T000000
DTEND;TZID=Europe/Paris:20121125T235900
CATEGORIES:26
LOCATION:Domaine du taille à VESSEAUX (Drome)
WEBSITE:http://www.domainedutaille.com
URL:http://www.domainedutaille.com
CONTACT:0684402407
ORGANIZER;CN=laurence:https://epanews.fr/profile/boutin
ATTACH;FMTTYPE="image/jpeg":http://storage.ning.com/topology/rest/1.0/
 file/get/1662669778?profile=original
ATTENDEE;ROLE=REQ-PARTICIPANT;PARTSTAT=ACCEPTED;RSVP=TRUE;CN=laurence:
 https://epanews.fr/profile/boutin
END:VEVENT
END:VCALENDAR
