BEGIN:VCALENDAR
PRODID:NingEventWidget-v1
VERSION:2.0
METHOD:PUBLISH
BEGIN:VTIMEZONE
TZID:Europe/Paris
X-LIC-LOCATION:Europe/Paris
BEGIN:DAYLIGHT
TZOFFSETFROM:+0100
TZOFFSETTO:+0200
TZNAME:CEST
DTSTART:19700329T020000
RRULE:FREQ=YEARLY;BYMONTH=3;BYDAY=-1SU
END:DAYLIGHT
BEGIN:STANDARD
TZOFFSETFROM:+0200
TZOFFSETTO:+0100
TZNAME:CET
DTSTART:19701025T030000
RRULE:FREQ=YEARLY;BYMONTH=10;BYDAY=-1SU
END:STANDARD
END:VTIMEZONE
BEGIN:VEVENT
UID:2485226:Event:509651
DTSTAMP:20260422T181757Z
SUMMARY:Je mâ€™amuse et lâ€™Ã¢me agit...
DESCRIPTION:Quelques clÃ©s pour Ã©veiller le divin alchimiste prÃ©sent
  en soi-mÃªme\nÂ \nUn atelier intensif Ã  la fois ludique et guÃ©risse
 ur, visant Ã  raviver l'espoir d'un monde meilleur en chacun de nousâ€
 ¦ en s'outillant efficacement afin de transcender nos dualitÃ©s intÃ©r
 ieures et en se rÃ©conciliant tout simplement avec l'enfant magique en
  nous qui SAIT que la vie est un jeu fabuleux!\nAu programme :\nï‚¨ Fa
 ire la paix avec les Ã©vÃ©nements actuels\nï‚¨ Oser Ãªtre soi en toute
  libertÃ©\nï‚¨ Ã‰veiller ses capacitÃ©s dâ€™adaptation intrinsÃ¨quesï‚
 ¨ Reconnecter avec son Ã¢me dâ€™enfant\nï‚¨ Rayonner dâ€™espoir et de 
 gratitude envers tout ce qui est\nï‚¨ Etâ€¦ redevenir un crÃ©ateur de 
 miraclesVenez dÃ©couvrir comment Â« ÃŠTRE Â» le changement que vous so
 uhaitez faire advenir en ce monde !\nÂ \nAtelier Co-animÃ© par Diane L
 EBLANC et Catherine MARTIN\nSamedi le 17 septembre de 13h Ã  19h - Con
 tribution 90 â‚¬ SpÃ©cial week-end: les 2 ateliers au coÃ»t total de 1
 25 euros au lieu de 140 !\nAttention, il ne reste plus que quelques pl
 aces......\n\nPour plus d'information, aller sur https://epanews.fr/ev
 ents/je-m-amuse-et-l-me-agit
DTSTART;TZID=Europe/Paris:20110917T130000
DTEND;TZID=Europe/Paris:20110917T190000
CATEGORIES:34
LOCATION:montpellier
WEBSITE:
URL:
CONTACT:0650131864
ORGANIZER;CN="karine molinier":https://epanews.fr/profile/karinemolini
 er
ATTACH;FMTTYPE="image/jpeg":http://storage.ning.com/topology/rest/1.0/
 file/get/1662454055?profile=original
ATTENDEE;ROLE=REQ-PARTICIPANT;PARTSTAT=ACCEPTED;RSVP=TRUE;CN="karine m
 olinier":https://epanews.fr/profile/karinemolinier
END:VEVENT
END:VCALENDAR
