BEGIN:VCALENDAR
PRODID:NingEventWidget-v1
VERSION:2.0
METHOD:PUBLISH
BEGIN:VTIMEZONE
TZID:Europe/Paris
X-LIC-LOCATION:Europe/Paris
BEGIN:DAYLIGHT
TZOFFSETFROM:+0100
TZOFFSETTO:+0200
TZNAME:CEST
DTSTART:19700329T020000
RRULE:FREQ=YEARLY;BYMONTH=3;BYDAY=-1SU
END:DAYLIGHT
BEGIN:STANDARD
TZOFFSETFROM:+0200
TZOFFSETTO:+0100
TZNAME:CET
DTSTART:19701025T030000
RRULE:FREQ=YEARLY;BYMONTH=10;BYDAY=-1SU
END:STANDARD
END:VTIMEZONE
BEGIN:VEVENT
UID:2485226:Event:58589
DTSTAMP:20260419T140957Z
SUMMARY:Jardin d'Echange Universel : JEU
DESCRIPTION:Rencontre - pique-nique du réseau d'échange de biens et 
 de services.\n\nBourse d'échange autour des plantes : apportez plante
 s, graines et conseils en jardinage à échanger avec les autres.\n\nR
 epas en plein air avec ce que chacun apportera à boire et à déguste
 r. (sauf en cas de pluie : salle du rez-de-chaussée de la Mairie).\n\
 nBienvenue aux nouvelles personnes pour découvrir le fonctionnement d
 u réseau d'échange.\nPlus d'info sur le groupe JEU : http://epanews.
 ning.com/group/jardindechangeuniversel\nPossibilité de dormir sur pla
 ce, me contacter.\n\nPour plus d'information, aller sur https://epanew
 s.fr/events/jardin-dechange-universel-jeu-4
DTSTART;TZID=Europe/Paris:20100522T123000
DTEND;TZID=Europe/Paris:20100522T170000
CATEGORIES:12, 34, 30, 81
LOCATION:St Jean du Bruel (12)
WEBSITE:http://www.saintjeandubruel.fr/index.aspx#envoiami
URL:http://www.saintjeandubruel.fr/index.aspx#envoiami
CONTACT:05.65.62.48.18
ORGANIZER;CN=Amaryllis:https://epanews.fr/profile/Amaryllis
ATTACH;FMTTYPE="image/jpeg":http://storage.ning.com/topology/rest/1.0/
 file/get/1662301493?profile=original
ATTENDEE;ROLE=REQ-PARTICIPANT;PARTSTAT=ACCEPTED;RSVP=TRUE;CN=Amaryllis
 :https://epanews.fr/profile/Amaryllis
END:VEVENT
END:VCALENDAR
