BEGIN:VCALENDAR
PRODID:NingEventWidget-v1
VERSION:2.0
METHOD:PUBLISH
BEGIN:VTIMEZONE
TZID:Europe/Paris
X-LIC-LOCATION:Europe/Paris
BEGIN:DAYLIGHT
TZOFFSETFROM:+0100
TZOFFSETTO:+0200
TZNAME:CEST
DTSTART:19700329T020000
RRULE:FREQ=YEARLY;BYMONTH=3;BYDAY=-1SU
END:DAYLIGHT
BEGIN:STANDARD
TZOFFSETFROM:+0200
TZOFFSETTO:+0100
TZNAME:CET
DTSTART:19701025T030000
RRULE:FREQ=YEARLY;BYMONTH=10;BYDAY=-1SU
END:STANDARD
END:VTIMEZONE
BEGIN:VEVENT
UID:2485226:Event:960679
DTSTAMP:20260421T031954Z
SUMMARY:Jardin d'Echange Universel
DESCRIPTION:Le J.E.U., c'est quoi ? comment Ã§a marche ?\nLa prochaine
  B.L.E. (bourse d'Ã©change)Â  du J.E.U. aura lieu au parc ste Claire Ã
   La Valette (Toulon), voir plan.\nle dimanche 21 octobre Ã  partir de
  midi.\nRepas partagÃ© sorti du sac, suivi d'Ã©changes et de partages,
  d'objets, d'idÃ©es, de projets et de rÃªve.\nVenez avec vos amis,\nBi
 envenue Ã  tous,\ncontact coco83\nliraco1@live.fr\nÂ \nBienvenue aux n
 ouveaux partenaires du J.E.U.\n\nPour plus d'information, aller sur ht
 tps://epanews.fr/events/jardin-d-echange-universel
DTSTART;TZID=Europe/Paris:20121021T120000
DTEND;TZID=Europe/Paris:20121021T190000
CATEGORIES:83
LOCATION:La Valette du Var
WEBSITE:http://coin-jeu.space-blogs.com/
URL:http://coin-jeu.space-blogs.com/
CONTACT:
ORGANIZER:coco83
ATTACH;FMTTYPE="image/jpeg":http://storage.ning.com/topology/rest/1.0/
 file/get/1662672297?profile=original
ATTENDEE;ROLE=REQ-PARTICIPANT;PARTSTAT=ACCEPTED;RSVP=TRUE;CN=helios-sa
 nte-bien-etre:https://epanews.fr/profile/sylviamur
ATTENDEE;ROLE=REQ-PARTICIPANT;PARTSTAT=ACCEPTED;RSVP=TRUE;CN="coco 83"
 :https://epanews.fr/profile/MORETTI
ATTENDEE;ROLE=REQ-PARTICIPANT;PARTSTAT=TENTATIVE;RSVP=TRUE;CN=Musicart
 :https://epanews.fr/profile/Musicart
ATTENDEE;ROLE=REQ-PARTICIPANT;PARTSTAT=TENTATIVE;RSVP=TRUE;CN=Michel:h
 ttps://epanews.fr/profile/noporof
ATTENDEE;ROLE=REQ-PARTICIPANT;PARTSTAT=TENTATIVE;RSVP=TRUE;CN="Christi
 ne Gagnier":https://epanews.fr/profile/ChristineGagnier
END:VEVENT
END:VCALENDAR
