BEGIN:VCALENDAR
PRODID:NingEventWidget-v1
VERSION:2.0
METHOD:PUBLISH
BEGIN:VTIMEZONE
TZID:Europe/Paris
X-LIC-LOCATION:Europe/Paris
BEGIN:DAYLIGHT
TZOFFSETFROM:+0100
TZOFFSETTO:+0200
TZNAME:CEST
DTSTART:19700329T020000
RRULE:FREQ=YEARLY;BYMONTH=3;BYDAY=-1SU
END:DAYLIGHT
BEGIN:STANDARD
TZOFFSETFROM:+0200
TZOFFSETTO:+0100
TZNAME:CET
DTSTART:19701025T030000
RRULE:FREQ=YEARLY;BYMONTH=10;BYDAY=-1SU
END:STANDARD
END:VTIMEZONE
BEGIN:VEVENT
UID:2485226:Event:1001843
DTSTAMP:20260420T061026Z
SUMMARY:Jamais content(e)!...
DESCRIPTION:Dans le cadre de l'Instant d'Amour, une sorte de Café-psy
 cho, les râleurs et râleuses semi-professionnels seront en vedette..
 écoute mutuelle, débats, hugs facultatifs..dans une ambiance sympa..
 . pour participer, c'est gratuit, à part une boisson dans le bar..apr
 ès, facultatif, il y a un repas à douze euros.\n\nPour plus d'inform
 ation, aller sur https://epanews.fr/events/jamais-content-e
DTSTART;TZID=Europe/Paris:20121121T193000
DTEND;TZID=Europe/Paris:20121121T210000
CATEGORIES:83, 13
LOCATION:bandol
WEBSITE:
URL:
CONTACT:06 15 85 75 62 et 04 94 90 59 01
ORGANIZER;CN="COLLIN gilles":https://epanews.fr/profile/COLLINgilles
ATTACH;FMTTYPE="image/jpeg":
ATTENDEE;ROLE=REQ-PARTICIPANT;PARTSTAT=ACCEPTED;RSVP=TRUE;CN="Dame Nat
 ure":https://epanews.fr/profile/DameNature
ATTENDEE;ROLE=REQ-PARTICIPANT;PARTSTAT=ACCEPTED;RSVP=TRUE;CN=carole:ht
 tps://epanews.fr/profile/zaportacarole
ATTENDEE;ROLE=REQ-PARTICIPANT;PARTSTAT=ACCEPTED;RSVP=TRUE;CN="COLLIN g
 illes":https://epanews.fr/profile/COLLINgilles
END:VEVENT
END:VCALENDAR
