BEGIN:VCALENDAR
PRODID:NingEventWidget-v1
VERSION:2.0
METHOD:PUBLISH
BEGIN:VTIMEZONE
TZID:Europe/Paris
X-LIC-LOCATION:Europe/Paris
BEGIN:DAYLIGHT
TZOFFSETFROM:+0100
TZOFFSETTO:+0200
TZNAME:CEST
DTSTART:19700329T020000
RRULE:FREQ=YEARLY;BYMONTH=3;BYDAY=-1SU
END:DAYLIGHT
BEGIN:STANDARD
TZOFFSETFROM:+0200
TZOFFSETTO:+0100
TZNAME:CET
DTSTART:19701025T030000
RRULE:FREQ=YEARLY;BYMONTH=10;BYDAY=-1SU
END:STANDARD
END:VTIMEZONE
BEGIN:VEVENT
UID:2485226:Event:1227970
DTSTAMP:20260420T195041Z
SUMMARY:Jacques SalomÃ© en confÃ©rence Ã  Sanary 83
DESCRIPTION:La Vie est une succession de Naissances,faites de rencontr
 es et de sÃ©parations.\n\nLe samedi 4 mai 2013\nÃ  20h45\nThÃ©Ã¢tre Ge
 orges-Galli 1, rue Raoul-Henry Centre ville 83110 Sanary\nConfÃ©rence 
 de Jacques SalomÃ© â€“ Psychosociologue Sanary le 4 mai 2013 20h45  La
  Vie est une succession de Naissances,faites de rencontres et de sÃ©pa
 rations.  AprÃ¨s Ãªtre sortis du ventre de notre mÃ¨re et tout au long
  de notre existence, nous allons sans cesse nous mettre au monde, au t
 ravers de rencontres et de sÃ©parations. Rencontres magiques ou Ã©prou
 vantes et sÃ©parations nÃ©cessaires ou imposÃ©s et dâ€™autres fois cho
 isies. Jacques SalomÃ©, auteur de nombreux ouvrages sur le changement 
 personnel et sur la communication en couple, avec les enfants, Ã  lâ€™
 Ã©cole ou dans le monde du travail, nous montrera comment ces diffÃ©re
 ntes naissances vont sâ€™inscrire en nous et nous permettre, dâ€™une p
 art de dÃ©velopper des ressources imprÃ©visibles et dâ€™autre part dâ€
 ™accÃ©der au meilleur de nous en favorisant une croissance sans cesse 
 renouvelÃ©e.  Informations sur le confÃ©rencier: Jacques SalomÃ© psych
 osociologue de formation, a Ã©tÃ© formateur en relations humaines dura
 nt 30 ans. Officier de lâ€™Ordre National du MÃ©rite, Auteur de quelqu
 es 58 ouvrages sur la communication en couple, Ã  l'Ã©cole, dans le mo
 nde du travail, il a dÃ©veloppÃ© une mÃ©thodologie pour l'apprentissag
 e d'une communication sans violence : la mÃ©thode ESPEREâ€¦ Son utopie
  est qu'on enseigne un jour la communication sans violence Ã  l'Ã©cole
  comme une matiÃ¨re Ã  part entiÃ¨re  J SalomÃ© dÃ©dicacera ses livres
  avant et aprÃ¨s sa confÃ©rence.  RÃ©servations: ThÃ©Ã¢tre GalliÂ Â  0
 4 94 88 53 90\net points de  vente habituels Tarif : 10â‚¬ AbonnÃ©s et
  CE : 7â‚¬ Etudiants : 5â‚¬\n\nPour plus d'information, aller sur http
 s://epanews.fr/events/jacques-salom-en-conf-rence-sanary-83
DTSTART;TZID=Europe/Paris:20130504T203000
DTEND;TZID=Europe/Paris:20130504T234500
CATEGORIES:83
LOCATION:Sanary sur mer
WEBSITE:
URL:
CONTACT:0660463092
ORGANIZER;CN=danielstcyrsurmer:https://epanews.fr/profile/danielstcyrs
 urmer
ATTACH;FMTTYPE="image/jpeg":
ATTENDEE;ROLE=REQ-PARTICIPANT;PARTSTAT=ACCEPTED;RSVP=TRUE;CN="So Black
 y":https://epanews.fr/profile/BS
ATTENDEE;ROLE=REQ-PARTICIPANT;PARTSTAT=ACCEPTED;RSVP=TRUE;CN=chrystie:
 https://epanews.fr/profile/chrystie
ATTENDEE;ROLE=REQ-PARTICIPANT;PARTSTAT=ACCEPTED;RSVP=TRUE;CN="bonnette
  jocelyne":https://epanews.fr/profile/bonnettejocelyne
ATTENDEE;ROLE=REQ-PARTICIPANT;PARTSTAT=ACCEPTED;RSVP=TRUE;CN=Manobal:h
 ttps://epanews.fr/profile/Manobal
ATTENDEE;ROLE=REQ-PARTICIPANT;PARTSTAT=ACCEPTED;RSVP=TRUE;CN=carole:ht
 tps://epanews.fr/profile/zaportacarole
ATTENDEE;ROLE=REQ-PARTICIPANT;PARTSTAT=ACCEPTED;RSVP=TRUE;CN="Brigitte
   BERGONZY":https://epanews.fr/profile/Brigitte955
ATTENDEE;ROLE=REQ-PARTICIPANT;PARTSTAT=ACCEPTED;RSVP=TRUE;CN=agnes:htt
 ps://epanews.fr/profile/agnes514
ATTENDEE;ROLE=REQ-PARTICIPANT;PARTSTAT=ACCEPTED;RSVP=TRUE;CN=danielstc
 yrsurmer:https://epanews.fr/profile/danielstcyrsurmer
ATTENDEE;ROLE=REQ-PARTICIPANT;PARTSTAT=TENTATIVE;RSVP=TRUE;CN="Anne-Ma
 rie PAILLARD":https://epanews.fr/profile/AnneMariePAILLARD
ATTENDEE;ROLE=REQ-PARTICIPANT;PARTSTAT=TENTATIVE;RSVP=TRUE;CN="THERAPY
  BIEN ETRE":https://epanews.fr/profile/cristalviolet
END:VEVENT
END:VCALENDAR
