BEGIN:VCALENDAR
PRODID:NingEventWidget-v1
VERSION:2.0
METHOD:PUBLISH
BEGIN:VTIMEZONE
TZID:Europe/Paris
X-LIC-LOCATION:Europe/Paris
BEGIN:DAYLIGHT
TZOFFSETFROM:+0100
TZOFFSETTO:+0200
TZNAME:CEST
DTSTART:19700329T020000
RRULE:FREQ=YEARLY;BYMONTH=3;BYDAY=-1SU
END:DAYLIGHT
BEGIN:STANDARD
TZOFFSETFROM:+0200
TZOFFSETTO:+0100
TZNAME:CET
DTSTART:19701025T030000
RRULE:FREQ=YEARLY;BYMONTH=10;BYDAY=-1SU
END:STANDARD
END:VTIMEZONE
BEGIN:VEVENT
UID:2485226:Event:862714
DTSTAMP:20260421T201758Z
SUMMARY:J ai tout laché et je vais bien! Eh vous?
DESCRIPTION:Je propose une rencontre en mon domicile afin d échanger 
 avec 5/6 personnes qui ont vécu ou vivent une situation de changement
  profond en ayant cette sensation soit de vivre un burn out soit en ay
 ant cette soif de liberte mais sans vision sur l avenir.\nCet atelier 
 à pour vocation l'expression de soi et la découverte de soi juste pa
 r la parole. Nous serons ainsi dans un principe d échange de recettes
  utiles\nje serais heureuse de répondre à toutes vos questions comme
  je propose une collation je demande à chacun de confirmer \nAmour p
 aix et lumiere sam\n\nPour plus d'information, aller sur https://epane
 ws.fr/events/j-ai-tout-lach-et-je-vais-bien-eh-vous
DTSTART;TZID=Europe/Paris:20120702T190000
DTEND;TZID=Europe/Paris:20120702T200000
CATEGORIES:11
LOCATION:Ventenac  Cabardes
WEBSITE:
URL:
CONTACT:06.22.16.80.32
ORGANIZER;CN=Sam:https://epanews.fr/profile/Sam875
ATTACH;FMTTYPE="image/jpeg":
ATTENDEE;ROLE=REQ-PARTICIPANT;PARTSTAT=ACCEPTED;RSVP=TRUE;CN=Sam:https
 ://epanews.fr/profile/Sam875
END:VEVENT
END:VCALENDAR
