BEGIN:VCALENDAR
PRODID:NingEventWidget-v1
VERSION:2.0
METHOD:PUBLISH
BEGIN:VTIMEZONE
TZID:Europe/Paris
X-LIC-LOCATION:Europe/Paris
BEGIN:DAYLIGHT
TZOFFSETFROM:+0100
TZOFFSETTO:+0200
TZNAME:CEST
DTSTART:19700329T020000
RRULE:FREQ=YEARLY;BYMONTH=3;BYDAY=-1SU
END:DAYLIGHT
BEGIN:STANDARD
TZOFFSETFROM:+0200
TZOFFSETTO:+0100
TZNAME:CET
DTSTART:19701025T030000
RRULE:FREQ=YEARLY;BYMONTH=10;BYDAY=-1SU
END:STANDARD
END:VTIMEZONE
BEGIN:VEVENT
UID:2485226:Event:2791929
DTSTAMP:20260422T162349Z
SUMMARY:iradiance
DESCRIPTION:journÃ©e rencontre et partage Access Consciousness\nJournÃ
 ©e exceptionnelle Ã  Marseille le 25 fÃ©vrier 2017 dans le 8Ã¨me arron
 dissement.\nNous vous proposons de vivre une journÃ©e de dÃ©tente, de 
 partage et de complicitÃ© pour TRANSFORMER VOTRE VIE dans tous les dom
 aines. Vous allez pouvoir dÃ©couvrir, apprendre, pratiquer et Ã©change
 r autour des fabuleuses techniques ACCESS CONSCIOUSNESS et ainsi vous 
 ouvrir Ã  de Nouvelles PossibilitÃ©s.\nAucun prÃ© requis pour la forma
 tion Access Bars qui est ouverte aux familles et gratuite pour les enf
 ants jusqu'Ã  16 ans.\nPour les inscriptions et plus d'information sur
  ces diffÃ©rentes formations aux processus corporels Access Consciousn
 ess veuillez cliquer sur le lien suivant :\nhttps://www.lartducoaching
 .com/single-post/2017/01/26/Journ%C3%A9e-Rencontre-Partage-25022017-MA
 RSEILLE\nPour toute demande de renseignement vous pouvez me contacter 
 au 06 61 83 61 44 ou appeler Pierre-Laurent au 0609967734.\n\nPour plu
 s d'information, aller sur https://epanews.fr/events/iradiance
DTSTART;TZID=Europe/Paris:20170225T000000
DTEND;TZID=Europe/Paris:20170225T235900
CATEGORIES:13
LOCATION:Quartier Bonneveine Ã  Marseille, parking gratuit sur place. 
 Adresse exacte donnÃ©e Ã  l'inscription.
WEBSITE:
URL:
CONTACT:
ORGANIZER;CN=Iradiance:https://epanews.fr/profile/Iradiance
ATTACH;FMTTYPE="image/jpeg":http://storage.ning.com/topology/rest/1.0/
 file/get/1663646630?profile=original
ATTENDEE;ROLE=REQ-PARTICIPANT;PARTSTAT=ACCEPTED;RSVP=TRUE;CN=Iradiance
 :https://epanews.fr/profile/Iradiance
END:VEVENT
END:VCALENDAR
