BEGIN:VCALENDAR
PRODID:NingEventWidget-v1
VERSION:2.0
METHOD:PUBLISH
BEGIN:VTIMEZONE
TZID:Europe/Paris
X-LIC-LOCATION:Europe/Paris
BEGIN:DAYLIGHT
TZOFFSETFROM:+0100
TZOFFSETTO:+0200
TZNAME:CEST
DTSTART:19700329T020000
RRULE:FREQ=YEARLY;BYMONTH=3;BYDAY=-1SU
END:DAYLIGHT
BEGIN:STANDARD
TZOFFSETFROM:+0200
TZOFFSETTO:+0100
TZNAME:CET
DTSTART:19701025T030000
RRULE:FREQ=YEARLY;BYMONTH=10;BYDAY=-1SU
END:STANDARD
END:VTIMEZONE
BEGIN:VEVENT
UID:2485226:Event:699775
DTSTAMP:20260422T074548Z
SUMMARY:Invitation à la Fête de Shiva à Paris 11
DESCRIPTION:Lundi 20 février, de 18h30 à minuit\nEntrée libre.\nCet
 te Nuit sainte, moment privilégié consacré à la pratique spirituel
 le et l'intériorité, \navec du chant, une puja (offrande et rituels
 ), une explication du sens de Shivaratri, de la méditation.... Ne man
 quez pas cette belle opportunité.\nVous trouverez ci-joint le program
 me de cette soirée. Code porte : 1A75 ensuite sonnez à CHINMAYA et a
 llez au fond de la cour à droite.\n\nPour plus d'information, aller s
 ur https://epanews.fr/events/invitation-la-f-te-de-shiva-paris-11
DTSTART;TZID=Europe/Paris:20120220T183000
DTEND;TZID=Europe/Paris:20120220T230000
CATEGORIES:75011
LOCATION:PARIS
WEBSITE:
URL:
CONTACT:0612795418
ORGANIZER;CN="Ananda - Chant & Yoga du son":https://epanews.fr/profile
 /SwarInternational
ATTACH;FMTTYPE="image/jpeg":http://storage.ning.com/topology/rest/1.0/
 file/get/1662555910?profile=original
ATTENDEE;ROLE=REQ-PARTICIPANT;PARTSTAT=ACCEPTED;RSVP=TRUE;CN="Ananda -
  Chant & Yoga du son":https://epanews.fr/profile/SwarInternational
END:VEVENT
END:VCALENDAR
