BEGIN:VCALENDAR
PRODID:NingEventWidget-v1
VERSION:2.0
METHOD:PUBLISH
BEGIN:VTIMEZONE
TZID:Europe/Paris
X-LIC-LOCATION:Europe/Paris
BEGIN:DAYLIGHT
TZOFFSETFROM:+0100
TZOFFSETTO:+0200
TZNAME:CEST
DTSTART:19700329T020000
RRULE:FREQ=YEARLY;BYMONTH=3;BYDAY=-1SU
END:DAYLIGHT
BEGIN:STANDARD
TZOFFSETFROM:+0200
TZOFFSETTO:+0100
TZNAME:CET
DTSTART:19701025T030000
RRULE:FREQ=YEARLY;BYMONTH=10;BYDAY=-1SU
END:STANDARD
END:VTIMEZONE
BEGIN:VEVENT
UID:2485226:Event:1344188
DTSTAMP:20260422T153834Z
SUMMARY:Intuitions & Confiance en soi
DESCRIPTION:Tout le monde est nÃ© avec un don intuitif. Cet Â«Â instin
 ctÂ Â» est parfois Ã©touffÃ© ou parfois exacerbÃ©.\nAu cours de cet at
 elier, vous apprendrez Ã  dÃ©velopper votre intelligence Ã©motionnelle
  pour vous offrir une meilleure vie, en prenant les meilleures dÃ©cisi
 ons pour vous.\n\nQuâ€™est ce que lâ€™intuition et comment apprendre Ã
   la dÃ©velopper ?\n\n\nComment rÃ©apprendre Ã  Ã©couter Â«Â sa petite
  voix intÃ©rieureÂ Â» ?\n\n\nComment redevenir soi-mÃªme et vivre en a
 ccord avec soi ?\n\n.\nDes exercices seront mis en pratique au cours d
 e lâ€™atelier pour tester vos intuitions et apprendre Ã  ressentir.\nL
 â€™intuition est un outil formidable pour transformer votre vie intÃ©r
 ieure et dÃ©velopper votre confiance en vous !\nVous saurez prendre le
 s meilleures dÃ©cisions pour vous, et aller ainsi vers la vie que vous
  souhaitez vraiment, avec une totale libertÃ© !\n\n\n* Ateliers de 12 
 personnes pour un meilleur Ã©change et une meilleure convivialitÃ©.\n\
 n* Confirmer sa place sur le site - 12euros par personne.\n\n\nPour pl
 us d'information, aller sur https://epanews.fr/events/intuitions-confi
 ance-en-soi
DTSTART;TZID=Europe/Paris:20130523T200000
DTEND;TZID=Europe/Paris:20130523T213000
CATEGORIES:75
LOCATION:Salle professionnelle
WEBSITE:http://www.lebonsensdesetoiles.com/
URL:http://www.lebonsensdesetoiles.com/
CONTACT:06 60 42 31 21
ORGANIZER:isabelle - Coach de vie.
ATTACH;FMTTYPE="image/jpeg":http://storage.ning.com/topology/rest/1.0/
 file/get/1662828578?profile=original
ATTENDEE;ROLE=REQ-PARTICIPANT;PARTSTAT=ACCEPTED;RSVP=TRUE;CN=isabelle:
 https://epanews.fr/profile/isabelle
ATTENDEE;ROLE=REQ-PARTICIPANT;PARTSTAT=TENTATIVE;RSVP=TRUE;CN=Honeypot
 :https://epanews.fr/profile/Honeypot
END:VEVENT
END:VCALENDAR
