BEGIN:VCALENDAR
PRODID:NingEventWidget-v1
VERSION:2.0
METHOD:PUBLISH
BEGIN:VTIMEZONE
TZID:Europe/Paris
X-LIC-LOCATION:Europe/Paris
BEGIN:DAYLIGHT
TZOFFSETFROM:+0100
TZOFFSETTO:+0200
TZNAME:CEST
DTSTART:19700329T020000
RRULE:FREQ=YEARLY;BYMONTH=3;BYDAY=-1SU
END:DAYLIGHT
BEGIN:STANDARD
TZOFFSETFROM:+0200
TZOFFSETTO:+0100
TZNAME:CET
DTSTART:19701025T030000
RRULE:FREQ=YEARLY;BYMONTH=10;BYDAY=-1SU
END:STANDARD
END:VTIMEZONE
BEGIN:VEVENT
UID:2485226:Event:1772368
DTSTAMP:20260423T180735Z
SUMMARY:intuition et rituels chamaniques pour Ãªtre au contact de son 
 Ã¢me
DESCRIPTION:\n\n\nL'intentionÂ :\n\n\n\n\nVotre corps est la porte d'a
 ccÃ¨s Ã  l'essence mÃªme de votre ÃŠtre.\n\nIl est Ã  la fois le lieu 
 d'ancrage de votre bien-Ãªtre, de vos Ã©motions et le lieu d'ancrage d
 e votre conscience, de toutes les facettes de votre Ã¢me et de l'indic
 ible.\n\nVoilÃ  pourquoi je vous propose ce moment de ressourcement po
 ur Ã©couter votre corps, vos besoins, vos dÃ©sirs et rentrer en rÃ©son
 ance avec votre maÃ®tre intÃ©rieur qui sait ce qui est bon, grand et b
 eau pour vous.\n\nDans un monde en quÃªte de renouveau, oÃ¹ les ancien
 s systÃ¨mes basÃ©s sur le cerveau gauche s'effondrent, il est urgent e
 t vital de s'harmoniser avec son guide intÃ©rieur et de s'abandonner Ã
   la sagesse de sa mission d'Ã¢me.\n\nDiffÃ©rents outils seront utilis
 Ã©sÂ :\n\nDanse rÃ©sonance, rituels chamaniques, exercices Ã©nergÃ©tiq
 ues de guÃ©rison, crÃ©ativitÃ©.\n\n\n\n\n\n\n\n\n\n\nPour plus d'infor
 mation, aller sur https://epanews.fr/events/intuition-et-rituels-chama
 niques-pour-tre-au-contact-de-son-me
DTSTART;TZID=Europe/Paris:20140803T180000
DTEND;TZID=Europe/Paris:20140807T170000
CATEGORIES:41
LOCATION:La PicotiÃ¨re
WEBSITE:http://www.picotiere.com
URL:http://www.picotiere.com
CONTACT:02 54 23 11 11
ORGANIZER;CN="Evelyne TravignÃ©":https://epanews.fr/profile/soleil777
ATTACH;FMTTYPE="image/jpeg":
ATTENDEE;ROLE=REQ-PARTICIPANT;PARTSTAT=ACCEPTED;RSVP=TRUE;CN="Evelyne 
 TravignÃ©":https://epanews.fr/profile/soleil777
END:VEVENT
END:VCALENDAR
