BEGIN:VCALENDAR
PRODID:NingEventWidget-v1
VERSION:2.0
METHOD:PUBLISH
BEGIN:VTIMEZONE
TZID:Europe/Paris
X-LIC-LOCATION:Europe/Paris
BEGIN:DAYLIGHT
TZOFFSETFROM:+0100
TZOFFSETTO:+0200
TZNAME:CEST
DTSTART:19700329T020000
RRULE:FREQ=YEARLY;BYMONTH=3;BYDAY=-1SU
END:DAYLIGHT
BEGIN:STANDARD
TZOFFSETFROM:+0200
TZOFFSETTO:+0100
TZNAME:CET
DTSTART:19701025T030000
RRULE:FREQ=YEARLY;BYMONTH=10;BYDAY=-1SU
END:STANDARD
END:VTIMEZONE
BEGIN:VEVENT
UID:2485226:Event:1740956
DTSTAMP:20260421T084129Z
SUMMARY:Interview inédite de Carole Aliya
DESCRIPTION:Interview de Carole Aliya, auteur de Marie Madeleine, la c
 onscience éternelle Préface de Jean Yves Leloup, le mercredi 5 févr
 ier de 18h à 20h00 : parcours spirituel.\nC'est un témoignage de vie
 , témoignage d'amour : se relever de ses épreuves et vivre l'union d
 ivine.\nDès 18h00, sur la radio web Bdcone, avec l'émission d'Aloys.
  Pour l'écouter, cliquez sur http://www.bdcone.com/radio.php?radios_i
 d=1\n\n\n\n\nPour plus d'information, aller sur https://epanews.fr/eve
 nts/interview-in-dite-de-carole-aliya
DTSTART;TZID=Europe/Paris:20140205T180000
DTEND;TZID=Europe/Paris:20140205T200000
CATEGORIES:tous
LOCATION:Radio Bdcone
WEBSITE:http://carolealiya.free.fr/
URL:http://carolealiya.free.fr/
CONTACT:0661177834
ORGANIZER;CN="Carole Aliya":https://epanews.fr/profile/carolealiyafree
 fr
ATTACH;FMTTYPE="image/jpeg":http://storage.ning.com/topology/rest/1.0/
 file/get/1663032287?profile=original
ATTENDEE;ROLE=REQ-PARTICIPANT;PARTSTAT=ACCEPTED;RSVP=TRUE;CN="Carole A
 liya":https://epanews.fr/profile/carolealiyafreefr
END:VEVENT
END:VCALENDAR
