BEGIN:VCALENDAR
PRODID:NingEventWidget-v1
VERSION:2.0
METHOD:PUBLISH
BEGIN:VTIMEZONE
TZID:Europe/Paris
X-LIC-LOCATION:Europe/Paris
BEGIN:DAYLIGHT
TZOFFSETFROM:+0100
TZOFFSETTO:+0200
TZNAME:CEST
DTSTART:19700329T020000
RRULE:FREQ=YEARLY;BYMONTH=3;BYDAY=-1SU
END:DAYLIGHT
BEGIN:STANDARD
TZOFFSETFROM:+0200
TZOFFSETTO:+0100
TZNAME:CET
DTSTART:19701025T030000
RRULE:FREQ=YEARLY;BYMONTH=10;BYDAY=-1SU
END:STANDARD
END:VTIMEZONE
BEGIN:VEVENT
UID:2485226:Event:1476596
DTSTAMP:20260422T062742Z
SUMMARY:Initiation tantrique Ã  la Kundalini blanche
DESCRIPTION:Cette approche novatrice du tantra incite aux expÃ©riences
  spontanÃ©es de lâ€™Ã©nergie Bienfaisante, Constructrice et Joyeuse de
  la Kundalini. La vision des auras de lâ€™animateur permet une guidanc
 e prÃ©cise et dÃ©licate de chacun (petits groupes) pour dÃ©couvrir et 
 expÃ©rimenter un tantra harmonieux Ce stage est accessible Ã  tous, dÃ
 ©butants comme expÃ©rimentÃ©s qui dÃ©couvriront une approche complÃ©me
 ntaire des enseignements classique du tantra.\n\nAuÂ : Â« Le Chant des
  Arbres Â»,2875 chemin du Radelier, Ã Â  Pierrelatte, nous sommes accu
 eillis dans le domaine de Â«Â Johanne RAZANAMAHAY et Christian Tal SCH
 ALLERÂ Â». une grande maison qui propose un hÃ©bergement simple et con
 vivial (chambres de 2 Ã  4 personnes en rÃ©partition libre â€“ 15 â‚¬ 
 par nuitÃ©e), cuisine et repas autogÃ©rÃ©s avec une rÃ©partition finan
 ciÃ¨re des achats. Gare TER â€“ Pierrelatte, avec voiturage possible.\
 nLe premier jour les stages commencent Ã  10h (pas de voiturage par Ch
 ristophe le matin du 1Â° jour) et finissent le dernier jour vers 17h.\
 nIl est recommandÃ© dâ€™arriver la veille, sachant quâ€™il y a une pet
 ite animation le soir prÃ©cÃ©dent le stage.\n\nPour plus d'information
 , aller sur https://epanews.fr/events/initiation-tantrique-la-kundalin
 i-blanche
DTSTART;TZID=Europe/Paris:20140419T220000
DTEND;TZID=Europe/Paris:20140420T190000
CATEGORIES:26
LOCATION:chant des arbres
WEBSITE:http://www.relations-d-amour.net/pages/massage_cachemiry/massa
 ge_cachemiry_02.htm
URL:http://www.relations-d-amour.net/pages/massage_cachemiry/massage_c
 achemiry_02.htm
CONTACT:0612199141
ORGANIZER;CN="Christophe Dacier":https://epanews.fr/profile/Christophe
 Dacier
ATTACH;FMTTYPE="image/jpeg":http://storage.ning.com/topology/rest/1.0/
 file/get/1662897113?profile=original
ATTENDEE;ROLE=REQ-PARTICIPANT;PARTSTAT=ACCEPTED;RSVP=TRUE;CN="Christop
 he Dacier":https://epanews.fr/profile/ChristopheDacier
END:VEVENT
END:VCALENDAR
