BEGIN:VCALENDAR
PRODID:NingEventWidget-v1
VERSION:2.0
METHOD:PUBLISH
BEGIN:VTIMEZONE
TZID:Europe/Paris
X-LIC-LOCATION:Europe/Paris
BEGIN:DAYLIGHT
TZOFFSETFROM:+0100
TZOFFSETTO:+0200
TZNAME:CEST
DTSTART:19700329T020000
RRULE:FREQ=YEARLY;BYMONTH=3;BYDAY=-1SU
END:DAYLIGHT
BEGIN:STANDARD
TZOFFSETFROM:+0200
TZOFFSETTO:+0100
TZNAME:CET
DTSTART:19701025T030000
RRULE:FREQ=YEARLY;BYMONTH=10;BYDAY=-1SU
END:STANDARD
END:VTIMEZONE
BEGIN:VEVENT
UID:2485226:Event:635779
DTSTAMP:20260424T020726Z
SUMMARY:Initiation Reiki 2 eme  degré . transmission par coeur sacré
  le 14et 15 janv 2012
DESCRIPTION:Marilou Cervantes , Maitre Reiki Usui propose des soins d'
 énergie de guérison depuis 10 ans, et des transmissions de Reiki à 
 travers le canal de lumière qu'elle est devenue .   Vous pouvez recev
 oir cette énergie et devenir, vous aussi canal de guérison.    Initi
 ation 2 ème Degré Reiki Usui  le 20 et 21 Novembre 2010    C'est un 
 pas de plus vers votre chemin de lumière   -Cette étape de l'enseign
 ement , vous permet d'avancer, d'avantage vers votre unité et vers vo
 tre propre source d'énergie d'amour.  -Ces initiations sacrées perme
 ttent d'intensifier l'ouverture du canal d'énergie universel de vie p
 ermettant ainsi d'effectuer des soins guérison plus intenses sur tous
  les plans de l'être.  -Les principes de base du Reiki sont revus .  
 -Vous recevrez, lors des initiations sacrées, avec la grâce et les b
 énédictions de l'Energie du Reiki et des guides de lumières en pré
 sence, des symboles de soin, leur signification et la façon de les ut
 iliser, dans le respect de leur caractère sacré et secret.  -Vous ap
 prendrez le traitement à distance.  -Comment dynamiser eau et nourrit
 ure, rééquilibrer l'émotionnel et le mental, dépasser ses limitati
 ons.  -Libérer des mémoires, apaiser et éclairer des zones d'ombres
 .  -Développer votre créativité et votre intuition.  -Nettoyer et p
 urifier un lieu, une situation du présent ou du passé.  -Favoriser l
 'enracinement ....   Vous avez décidé d'aller plus loin dans l'éner
 gie d'amour universel et vous expérimenterez votre sacré en toute gu
 idance de lumière!  Venez, le cœur ouvert.  Bon chemin  Marilou Cerv
 antes  Maitre Reiki Usui et coach de Cœur   Tarif du week-end Initiat
 ion 2 ième Degré : 240 euros. La réservation est indispensable et e
 st confirmée par l'envoi d'un chèque de 30% du montant.  Contact:  m
 ariloucervantes@live.fr Tel : 06 77 80 80 09\n\nPour plus d'informatio
 n, aller sur https://epanews.fr/events/initiation-reiki-2-eme-degr-tra
 nsmission-par-coeur-sacr-le-14et
DTSTART;TZID=Europe/Paris:20120114T093000
DTEND;TZID=Europe/Paris:20120115T170000
CATEGORIES:13
LOCATION:Marseille
WEBSITE:http://mariloucervantes-live.fr.over-blog.com/
URL:http://mariloucervantes-live.fr.over-blog.com/
CONTACT:06 77 80 80 09
ORGANIZER;CN="Marilou coach d 'éveil énergie":https://epanews.fr/pro
 file/Marilou
ATTACH;FMTTYPE="image/jpeg":http://storage.ning.com/topology/rest/1.0/
 file/get/1662522945?profile=original
ATTENDEE;ROLE=REQ-PARTICIPANT;PARTSTAT=ACCEPTED;RSVP=TRUE;CN="Marilou 
 coach d 'éveil énergie":https://epanews.fr/profile/Marilou
ATTENDEE;ROLE=REQ-PARTICIPANT;PARTSTAT=TENTATIVE;RSVP=TRUE;CN=Nabila:h
 ttps://epanews.fr/profile/Nabila
END:VEVENT
END:VCALENDAR
