BEGIN:VCALENDAR
PRODID:NingEventWidget-v1
VERSION:2.0
METHOD:PUBLISH
BEGIN:VTIMEZONE
TZID:Europe/Paris
X-LIC-LOCATION:Europe/Paris
BEGIN:DAYLIGHT
TZOFFSETFROM:+0100
TZOFFSETTO:+0200
TZNAME:CEST
DTSTART:19700329T020000
RRULE:FREQ=YEARLY;BYMONTH=3;BYDAY=-1SU
END:DAYLIGHT
BEGIN:STANDARD
TZOFFSETFROM:+0200
TZOFFSETTO:+0100
TZNAME:CET
DTSTART:19701025T030000
RRULE:FREQ=YEARLY;BYMONTH=10;BYDAY=-1SU
END:STANDARD
END:VTIMEZONE
BEGIN:VEVENT
UID:2485226:Event:21019
DTSTAMP:20260422T190912Z
SUMMARY:initiation reiki 1er
DESCRIPTION:initiation reiki premier degré à juvignac 34 (proche Mon
 tpellier.participation libre, amener repas à partager + duvet si vous
  restez dormir, possibilité de récupérer du monde à la gare ou à 
 l'aéroport le vendredi soir.\n\ndans la lumière\n\nBabou\n\nps inscr
 iption obligatoire sur mon tel ou par mail\n\nPour plus d'information,
  aller sur https://epanews.fr/events/initiation-reiki-1er
DTSTART;TZID=Europe/Paris:20091212T000000
DTEND;TZID=Europe/Paris:20091213T235900
CATEGORIES:34
LOCATION:stage
WEBSITE:
URL:
CONTACT:0675668582
ORGANIZER;CN=babou:https://epanews.fr/profile/babou
ATTACH;FMTTYPE="image/jpeg":http://storage.ning.com/topology/rest/1.0/
 file/get/1662282599?profile=original
ATTENDEE;ROLE=REQ-PARTICIPANT;PARTSTAT=ACCEPTED;RSVP=TRUE;CN="Audrey R
 .":https://epanews.fr/profile/AudreyR
ATTENDEE;ROLE=REQ-PARTICIPANT;PARTSTAT=ACCEPTED;RSVP=TRUE;CN=babou:htt
 ps://epanews.fr/profile/babou
END:VEVENT
END:VCALENDAR
