BEGIN:VCALENDAR
PRODID:NingEventWidget-v1
VERSION:2.0
METHOD:PUBLISH
BEGIN:VTIMEZONE
TZID:Europe/Paris
X-LIC-LOCATION:Europe/Paris
BEGIN:DAYLIGHT
TZOFFSETFROM:+0100
TZOFFSETTO:+0200
TZNAME:CEST
DTSTART:19700329T020000
RRULE:FREQ=YEARLY;BYMONTH=3;BYDAY=-1SU
END:DAYLIGHT
BEGIN:STANDARD
TZOFFSETFROM:+0200
TZOFFSETTO:+0100
TZNAME:CET
DTSTART:19701025T030000
RRULE:FREQ=YEARLY;BYMONTH=10;BYDAY=-1SU
END:STANDARD
END:VTIMEZONE
BEGIN:VEVENT
UID:2485226:Event:584132
DTSTAMP:20260423T052328Z
SUMMARY:Initiation Reiki 1er.degrÃ©
DESCRIPTION:ReikiÂ  -Â  Explicationsur REI et KI et les chakras\nÂ Â Â
  Â Â Â Â Â  - La transmission de L'Energie de Vie Universelle\nÂ Â Â Â
  Â Â Â Â Â  - Les techniques d'apprentissage pour soi-mÃªme et les aut
 res. - Les sÃ©quences de positions des mains.\nrÃ©servation au 0442272
 213 ou 0619562189\nÂ Â Â Â Â Â Â Â \n\nPour plus d'information, aller 
 sur https://epanews.fr/events/initiation-reiki-1er-degr-1
DTSTART;TZID=Europe/Paris:20111127T090000
DTEND;TZID=Europe/Paris:20111127T190000
CATEGORIES:13
LOCATION:Aix-en-Provence
WEBSITE:http://www.leclosdubienetre.fr
URL:http://www.leclosdubienetre.fr
CONTACT:0442272213
ORGANIZER;CN="de Rougemont Josiane":https://epanews.fr/profile/deRouge
 montJosiane
ATTACH;FMTTYPE="image/jpeg":http://storage.ning.com/topology/rest/1.0/
 file/get/1662486898?profile=original
ATTENDEE;ROLE=REQ-PARTICIPANT;PARTSTAT=ACCEPTED;RSVP=TRUE;CN="de Rouge
 mont Josiane":https://epanews.fr/profile/deRougemontJosiane
END:VEVENT
END:VCALENDAR
