BEGIN:VCALENDAR
PRODID:NingEventWidget-v1
VERSION:2.0
METHOD:PUBLISH
BEGIN:VTIMEZONE
TZID:Europe/Paris
X-LIC-LOCATION:Europe/Paris
BEGIN:DAYLIGHT
TZOFFSETFROM:+0100
TZOFFSETTO:+0200
TZNAME:CEST
DTSTART:19700329T020000
RRULE:FREQ=YEARLY;BYMONTH=3;BYDAY=-1SU
END:DAYLIGHT
BEGIN:STANDARD
TZOFFSETFROM:+0200
TZOFFSETTO:+0100
TZNAME:CET
DTSTART:19701025T030000
RRULE:FREQ=YEARLY;BYMONTH=10;BYDAY=-1SU
END:STANDARD
END:VTIMEZONE
BEGIN:VEVENT
UID:2485226:Event:2737946
DTSTAMP:20260423T151222Z
SUMMARY:Initiation Praticien (ne) LaHoChi: La voie du Tao
DESCRIPTION:Initiation LaHoChi: La voie du Tao\nLe 10 DÃ©cembre 2016 o
 u le 14 Janvier 2017\nAccessible Ã  tous - sans prÃ© requis: De 10h00 
 Ã  17h30\n\nLe corps humain est matiÃ¨re. Comme toute matiÃ¨re, elle e
 st constituÃ©e d'atomes. C'est ainsi que le corps humain est aussi un 
 ensemble vibratoire.\n\nLâ€™enregistrement des phÃ©nomÃ¨nes Ã©lectriqu
 es corporels se lit sous la forme dâ€™un Ã©lectrocardiogramme (reprÃ©s
 entant lâ€™activitÃ© Ã©lectrique du cÅ“ur) et dâ€™un Ã©lectroencÃ©phal
 ogramme (reprÃ©sentant lâ€™activitÃ© Ã©lectrique du cerveau).\n\nSâ€™i
 l y a un courant Ã©lectrique, il y a donc aussi un champ Ã©lectro-magn
 Ã©tique, dont lâ€™un des Ã©lÃ©ments constitutifs est lâ€™aura.\nÂ \nLe
  LaHoChi est donc une technique qui permet de ressentir cette Ã©nergie
  de vie qui nous entoure et nous pÃ©nÃ¨tre. L'initiation permet de pre
 ndre conscience de nos champs vibratoires et de transmettre cette Ã©ne
 rgie par l'imposition des mains pour stimuler harmonieusement nos capa
 citÃ©s d'auto guÃ©rison.\n\nElle est accessible Ã  tous et chacun peut
  apprendre cette mÃ©thode Ã©nergÃ©tique simple.\n\nLaHoChi (qui se pro
 nonce lah hoe chee) est une Ã©nergie aux frÃ©quences vibratoires trÃ¨s
  Ã©levÃ©es.\nÂ \nL'enseignement LaHoChi a Ã©tÃ© transmis par un maÃ®tr
 e spirituel du chi - le MaÃ®tre LaHoChi ou Lao Tseu.\n\nProgramme du s
 tage:\n\n-Historique du LaHoChi.\n\n-La physique des particules pour d
 Ã©butans (physique quantique)\n\n-L'impacte des frÃ©quences vibratoire
 s ou ondes sur l'eau.\n\n-Fonctionnement Ã©nergÃ©tique du corps, systÃ
 ¨me aurique.\nSystÃ¨me des 7 et 12+1 Chakras.\n\n-Ã‰lÃ©vation du taux 
 vibratoire, principes et exercices de Krya Yoga.\n\n-Lâ€™enseignement 
 thÃ©orique du systÃ¨me naturel LaHoChi : il permet de passer en revue 
 lâ€™ensemble des connaissances permettant une utilisation efficace du 
 LaHoChi comme les prÃ©alables nÃ©cessaires pour activer Energie, les p
 ositions des mains, etcâ€¦\n\n-Lâ€™enseignement pratique du traitement
  sur autrui, Ã  distance et de lâ€™auto-traitement : cette Ã©tape perm
 et, aprÃ¨s lâ€™initiation, de mettre en pratique lâ€™enseignement du L
 aHoChi afin de vous entraÃ®ner sans attendre,\n\n1 MANUEL BrochÃ© (Â 1
 30 PAGESÂ )\n1 INITIATION LAHOCHI\nÂ \n1 Certificat Praticien LaHoChi\
 nÂ \nInitiation au LaHoChi - Tarif : 150 Euros (hors dÃ©jeuner)\n\nAdr
 esse: 5, Passage Montgallet 75012 Paris\nÂ inscription sur le site : a
 ctivzen.eu\nNamastÃ©,\nChristian,\n\nEnseignant LaHoChi\nHypnothÃ©rape
 ute Ericksonien et Humaniste IFHE Paris.\n\nPour plus d'information, a
 ller sur https://epanews.fr/events/initiation-praticien-ne-lahochi-la-
 voie-du-tao
DTSTART;TZID=Europe/Paris:20161210T100000
DTEND;TZID=Europe/Paris:20161210T173000
CATEGORIES:75
LOCATION:5 passage montgallet 75012 PARIS
WEBSITE:
URL:
CONTACT:
ORGANIZER;CN=kunndalini:https://epanews.fr/profile/kunndalini
ATTACH;FMTTYPE="image/jpeg":http://storage.ning.com/topology/rest/1.0/
 file/get/1663619904?profile=original
ATTENDEE;ROLE=REQ-PARTICIPANT;PARTSTAT=ACCEPTED;RSVP=TRUE;CN=kunndalin
 i:https://epanews.fr/profile/kunndalini
END:VEVENT
END:VCALENDAR
