BEGIN:VCALENDAR
PRODID:NingEventWidget-v1
VERSION:2.0
METHOD:PUBLISH
BEGIN:VTIMEZONE
TZID:Europe/Paris
X-LIC-LOCATION:Europe/Paris
BEGIN:DAYLIGHT
TZOFFSETFROM:+0100
TZOFFSETTO:+0200
TZNAME:CEST
DTSTART:19700329T020000
RRULE:FREQ=YEARLY;BYMONTH=3;BYDAY=-1SU
END:DAYLIGHT
BEGIN:STANDARD
TZOFFSETFROM:+0200
TZOFFSETTO:+0100
TZNAME:CET
DTSTART:19701025T030000
RRULE:FREQ=YEARLY;BYMONTH=10;BYDAY=-1SU
END:STANDARD
END:VTIMEZONE
BEGIN:VEVENT
UID:2485226:Event:2892316
DTSTAMP:20260421T221802Z
SUMMARY:Initiation modelage californien - Aix-en-Provence
DESCRIPTION:INITIATION MASSAGE CALIFORNIEN\nÂ \nLe massage californien
  est principalement basÃ© sur des techniques dâ€™effleurement qui agit
  sur la sensibilitÃ©, le relationnel et la rÃ©appropriation de son cor
 ps.\nPour celles et ceux qui voudraient acquÃ©rir les fondamentaux du 
 massage Californien, je vous propose une sÃ©rie de 4 soirÃ©es pour dÃ©
 couvrir quelques techniques de base qui relÃ¢cheront tensions et courb
 atures pour aller vers le bien-Ãªtre.\nAfin dâ€™apprendre Ã  votre ryt
 hme et selon les moyens financiers de chacun, vous nâ€™Ãªtes pas oblig
 Ã© de suivre cette sÃ©rie de 4 sÃ©ances, vous aurez la possibilitÃ© de
  revenir lors dâ€™une prochaine sÃ©rie en vous inscrivant Ã  la sÃ©anc
 e qui vous intÃ©resse.\nÂ \nPROGRAMME :Â Â  Â  Â \nÂ  Â  Â - 1Ã¨re sÃ©
 ance : modelage du dosÂ \nÂ  Â  Â - 2Ã¨me sÃ©ance : modelage des jambe
 s (derriÃ¨re et devant)\nÂ  Â  Â - 3Ã¨me sÃ©ance : torse, visage et tÃ
 ªte\nÂ  Â  Â - 4Ã¨me sÃ©ance : rÃ©vision et enchaÃ®nement des sÃ©ances
  prÃ©cÃ©dentes\nÂ \nTARIF :Â 50 euros la sÃ©ance et par personne\n\nLI
 EU :Â ESPACE LA MAGUY - Chemin de Saint-Jacques - 13100 LE THOLONET\n\
 nDATES :Â tous les jeudisÂ soir (sauf le 1er jeudiÂ du mois) de 19h Ã 
  23h\nÂ \nPREVOIRÂ une grande serviette pour la table de massage.\nÂ \
 nINSCRIPTION OBLIGATOIRE AU 06 87 45 37 73\n\nPour plus d'information,
  aller sur https://epanews.fr/events/initiation-modelage-californien-a
 ix-en-provence
DTSTART;TZID=Europe/Paris:20171109T190000
DTEND;TZID=Europe/Paris:20171109T230000
CATEGORIES:13
LOCATION:ESPACE LA MAGUY
WEBSITE:
URL:
CONTACT:0687453773
ORGANIZER;CN=Pertuisienne:https://epanews.fr/profile/Pertuisienne
ATTACH;FMTTYPE="image/jpeg":
ATTENDEE;ROLE=REQ-PARTICIPANT;PARTSTAT=ACCEPTED;RSVP=TRUE;CN=Pertuisie
 nne:https://epanews.fr/profile/Pertuisienne
END:VEVENT
END:VCALENDAR
