BEGIN:VCALENDAR
PRODID:NingEventWidget-v1
VERSION:2.0
METHOD:PUBLISH
BEGIN:VTIMEZONE
TZID:Europe/Paris
X-LIC-LOCATION:Europe/Paris
BEGIN:DAYLIGHT
TZOFFSETFROM:+0100
TZOFFSETTO:+0200
TZNAME:CEST
DTSTART:19700329T020000
RRULE:FREQ=YEARLY;BYMONTH=3;BYDAY=-1SU
END:DAYLIGHT
BEGIN:STANDARD
TZOFFSETFROM:+0200
TZOFFSETTO:+0100
TZNAME:CET
DTSTART:19701025T030000
RRULE:FREQ=YEARLY;BYMONTH=10;BYDAY=-1SU
END:STANDARD
END:VTIMEZONE
BEGIN:VEVENT
UID:2485226:Event:651573
DTSTAMP:20260422T060818Z
SUMMARY:Initiation Massage Porte d'Italie
DESCRIPTION:Initiation au Massage de Bien-ÃªtreÂ Â Â Â Â Â Â Â Â Â Â Â
  Â Â Â Â Â Â Â Â Â Â Â  \"Mains et Merveilles\"avecÂ Â Â  Anne-Marie F
 LOCHÂ Dimanche 19 fÃ©vrier: nuque + trapÃ¨ze (et le cuir cheveluÂ  sou
 s rÃ©serve)Â Â  Sensibilisation aux massages de relaxation,sur tables 
 de massages. Cocktail inspirÃ© de diffÃ©rentes techniques : massages c
 alifornien, Sensitif Gestalt Massage, Sensitif mÃ©thode Camilli, Chi N
 ei Tsangâ€¦Â AdaptÃ© aux dÃ©butants et faux dÃ©butants, pour apprendre
 , redÃ©couvrir ou amÃ©liorer, -dans le respect de la pudeur de chacun-
  comment masser avec dÃ©licatesse et technicitÃ©, donner et recevoir u
 n toucher de qualitÃ©, pour sâ€™offrir dans notre vie de vrais moments
  de plaisir partagÃ©â€¦Â Â Â Â  Â Â Comment Ã§a se passe ? Chaque stag
 iaire - observe les dÃ©monstrations des massages Ã©tudiÃ©s- reÃ§oit de
 s massages de bien-Ãªtre de la part des autres stagiaires - donne des 
 massages de bien-Ãªtre aux autres stagiairesÂ Â Â Â Â Â Â Â Â Â Â Â Â 
 Â Â Â Â Â Â Â Â Â Â  Â Objectif : semer des graines de bonheur ! Trans
 mettre les gestes simples qui dÃ©tendent, procurent des sensations de 
 bien-Ãªtre, les techniques pour dissoudre les tensions en douceur adap
 tÃ©es au quotidien. Aider Ã  faire Ã©merger ce que chacun de nous port
 e dÃ©jÃ  en luiTarifÂ  35â‚¬ par sÃ©ance -Â  30â‚¬ avec abonnement â€“
  65â‚¬ le couple Â tarif dÃ©couverte: 25â‚¬ la 1Ã¨re foisÂ Dates prÃ©v
 uesÂ Â  19 fÃ©v, 11 mars (la suite Ã  dÃ©cider ensemble)Â Lieu du stag
 eÂ Â Â  Au restaurant Lâ€™orangeraie (location de salle), 4 rue Roger 
 Salengro, 94 le Kremlin BicÃªtreA 5 mn Ã  pieds de la Porte dâ€™Italie
  Plan dâ€™accÃ¨s sur http://www.lorangeraie.fr/ Avec possibilitÃ© de d
 Ã©jeuner sur place au restaurant avant en rÃ©servant auprÃ¨s de Fanny 
 06.88.74.16.23\nRÃ©servation indispensable! ContactÂ  Anne-Marie FLOCH
  06.61.51.83.40 am.floch@laposte.net http://mainsetmerveilles.over-blo
 g.comÂ Â  Â Â   Contrat de confianceÂ Â Â Â Â Â Â Â Â Â Â Â  Â  Anne-M
 arie pratique et anime des ateliers de massages de Bien-Ãªtre depuis p
 lus de 15 ans. Son toucher sâ€™inspire de multiples approches : massag
 e californien, S.G.M Â®, sensitif Â®,Chi Nei TsangÂ®, rÃ©flexologie pl
 antaire chinoise, rÃ©flexologie crÃ¢nienne et faciale, etc  Elle vous 
 garantit des massages et des animations pratiquÃ©s dans un cadre respe
 ctueux et sainÂ Â Â \n\nPour plus d'information, aller sur https://epa
 news.fr/events/initiation-massage-porte-d-italie
DTSTART;TZID=Europe/Paris:20120219T150000
DTEND;TZID=Europe/Paris:20120219T200000
CATEGORIES:75013
LOCATION:Paris Porte d'Italie
WEBSITE:http://www.lorangeraie.fr/
URL:http://www.lorangeraie.fr/
CONTACT:06.61.51.83.40
ORGANIZER;CN="FLOCH Anne-Marie":https://epanews.fr/profile/FLOCHAnneMa
 rie
ATTACH;FMTTYPE="image/jpeg":http://storage.ning.com/topology/rest/1.0/
 file/get/1662537603?profile=original
ATTENDEE;ROLE=REQ-PARTICIPANT;PARTSTAT=ACCEPTED;RSVP=TRUE;CN="FLOCH An
 ne-Marie":https://epanews.fr/profile/FLOCHAnneMarie
END:VEVENT
END:VCALENDAR
