BEGIN:VCALENDAR
PRODID:NingEventWidget-v1
VERSION:2.0
METHOD:PUBLISH
BEGIN:VTIMEZONE
TZID:Europe/Paris
X-LIC-LOCATION:Europe/Paris
BEGIN:DAYLIGHT
TZOFFSETFROM:+0100
TZOFFSETTO:+0200
TZNAME:CEST
DTSTART:19700329T020000
RRULE:FREQ=YEARLY;BYMONTH=3;BYDAY=-1SU
END:DAYLIGHT
BEGIN:STANDARD
TZOFFSETFROM:+0200
TZOFFSETTO:+0100
TZNAME:CET
DTSTART:19701025T030000
RRULE:FREQ=YEARLY;BYMONTH=10;BYDAY=-1SU
END:STANDARD
END:VTIMEZONE
BEGIN:VEVENT
UID:2485226:Event:628782
DTSTAMP:20260423T232231Z
SUMMARY:Initiation Massage nuque et visage Porte d'Italie
DESCRIPTION:Initiation au Massage de Bien-ÃªtreÂ Â Â Â Â Â Â Â Â \nÂ Â
  Â Â Â Â Â Â Â Â Â Â Â  Â \"Mains et Merveilles\"Â Â Â Â Â Â Â Â Â Â Â
  Â Â Â \navecÂ Anne-Marie FLOCH\nÂ \n1 dimanche par mois de 15h Ã  18h
 \nprochaine date : dimancheÂ 15 janvier\nla nuque et le visageÂ Â  \nÂ
  \nSur tables de massages Cocktail inspirÃ© de diffÃ©rentes techniques
 Â : massages californien, Sensitif Gestalt Massage, Sensitif mÃ©thode 
 Camilli, Chi Nei Tsangâ€¦\nÂ \nPour apprendreÂ -dans le respect de la 
 pudeur de chacun- les gestes simples qui dÃ©tendent, procurent des sen
 sations de bien-Ãªtre,Â  adaptÃ©s au quotidien,Â comment masser avec d
 Ã©licatesse et technicitÃ©, et sâ€™offrir dans notre vie de vrais mome
 nts de plaisir partagÃ©â€¦Â Â Â Â Â \nÂ Â Â Â Â Â Â Â Â Â Â Â Â Â Â Â 
 Â Â Â Â Â Â Â Â Â Â Â Â Â Â Â Â Â Â Â Â Â Â Â Â Â Â Â Â Â Â Â Â  Tarif
 Â Â 35â‚¬ par sÃ©ance-65â‚¬ le couple-possibilitÃ© d'abonnement Â Â Â 
 Â Â Â Â Â Â Â Â Â Â Â Â Â Â Â Â Â Â Â Â Â Â  tarif dÃ©couverte: 25â‚¬ 
 la 1Ã¨re fois\nÂ \nA vos agendasÂ !Â Â \nÂ 15Â  janÂ \nLieu du stageÂ 
 Â  \nAu restaurant Lâ€™orangeraie\n4 rue Roger Salengro, 94 le Kremlin
  BicÃªtre\nA 5 mn Ã  pieds de la Porte dâ€™Italie\nInscription prÃ©ala
 ble indispensable!\nÂ \nContact\nÂ Anne-Marie FLOCH\nam.floch@laposte.
 net\n06.61.51.83.40\nhttp://mainsetmerveilles.over-blog.comÂ Â Â \nÂ \
 nÂ \nÂ Â Contrat de confianceÂ Â Â Â Â Â Â Â Â Â Â Â \nÂ Anne-Marie an
 ime des ateliers de massages de Bien-Ãªtre depuis plus de 15 ans. Son 
 toucher sâ€™inspire de multiples approchesÂ : massage californien, S.G
 .M Â®, sensitif Â®,Chi Nei TsangÂ®, reflexologie plantaire chinoise, r
 Ã©flexologie crÃ¢nienne et faciale, etc\nÂ \nElle vous garantitÂ des m
 assages et des animations pratiquÃ©s dans un cadre respectueux et sain
 Â Â Â \n\n\n\nPour plus d'information, aller sur https://epanews.fr/ev
 ents/initiation-massage-nuque-et-visage-porte-d-italie
DTSTART;TZID=Europe/Paris:20120115T150000
DTEND;TZID=Europe/Paris:20120115T183000
CATEGORIES:75
LOCATION:Kremlin BicÃªtre
WEBSITE:http://mainsetmerveilles.over-blog.com/
URL:http://mainsetmerveilles.over-blog.com/
CONTACT:06.61.51.83.40
ORGANIZER;CN="FLOCH Anne-Marie":https://epanews.fr/profile/FLOCHAnneMa
 rie
ATTACH;FMTTYPE="image/jpeg":
ATTENDEE;ROLE=REQ-PARTICIPANT;PARTSTAT=ACCEPTED;RSVP=TRUE;CN="FLOCH An
 ne-Marie":https://epanews.fr/profile/FLOCHAnneMarie
END:VEVENT
END:VCALENDAR
