BEGIN:VCALENDAR
PRODID:NingEventWidget-v1
VERSION:2.0
METHOD:PUBLISH
BEGIN:VTIMEZONE
TZID:Europe/Paris
X-LIC-LOCATION:Europe/Paris
BEGIN:DAYLIGHT
TZOFFSETFROM:+0100
TZOFFSETTO:+0200
TZNAME:CEST
DTSTART:19700329T020000
RRULE:FREQ=YEARLY;BYMONTH=3;BYDAY=-1SU
END:DAYLIGHT
BEGIN:STANDARD
TZOFFSETFROM:+0200
TZOFFSETTO:+0100
TZNAME:CET
DTSTART:19701025T030000
RRULE:FREQ=YEARLY;BYMONTH=10;BYDAY=-1SU
END:STANDARD
END:VTIMEZONE
BEGIN:VEVENT
UID:2485226:Event:2273546
DTSTAMP:20260421T225805Z
SUMMARY:Initiation massage du dos
DESCRIPTION:\n Stage DOS 04 Avril\n \nSAMEDI 04 AVRIL  au foyer de S
 t CAPRAIS\n NOUVEAU  LE MASSAGE DU DOS  VERSION SHIATSU\n \n\n\nDéno
 ue les tensions.\n\nDétend les muscles dorsaux.\n\nSoulage les courba
 tures et contractions.\n\nOxygène le corps et de stimule la circulati
 on sanguine.\n\nFavorise un bon sommeil.\n\n\nCONTENU DU STAGE,\nCe ma
 ssage est inspiré du shiatsu. Il est donc composé de pressions appli
 quées le long des méridiens définis par la médecine traditionnelle
  chinoise.\nChacun sera tour à tour donneur et receveur. Nous allons 
 nous occuper de tout l'arrière du corps depuis les mains jusqu'aux pi
 eds, en passant par les bras, les trapèzes, tout le dos, le sacrum, l
 es cuisses et les mollets.\nAucune connaissance préalable n'est requi
 se.\n\nPrévoir une tenue souple, un tapis de sol et de quoi prendre d
 es notes. Si besoin, coussin et plaid.\n HORAIRE 8H45/12H15\n\nTARIF N
 ormal: 40€  Adhérents : 32€ (l'adhésion 15€/an permet de parti
 ciper à l'échange de massages de l'après-midi, pour pratiquer)\n\nL
 IEU Foyer de St CAPRAIS  42 rue du ROUANEL  31330 GRENADE\n\nRENSEIGNE
 MENTS / INSCRIPTIONS\nDominique ROQUES 06 51 92 99 00 monheureamoi@heb
 3.org\n\n\n\n\nPour plus d'information, aller sur https://epanews.fr/e
 vents/initiation-massage-du-dos
DTSTART;TZID=Europe/Paris:20150404T084500
DTEND;TZID=Europe/Paris:20150404T121500
CATEGORIES:31
LOCATION:Foyer de St CAPRAIS
WEBSITE:http://monheureamoi.heb3.org
URL:http://monheureamoi.heb3.org
CONTACT:06 51 92 99 00
ORGANIZER;CN=monheure:https://epanews.fr/profile/monheure
ATTACH;FMTTYPE="image/jpeg":
ATTENDEE;ROLE=REQ-PARTICIPANT;PARTSTAT=ACCEPTED;RSVP=TRUE;CN=monheure:
 https://epanews.fr/profile/monheure
END:VEVENT
END:VCALENDAR
