BEGIN:VCALENDAR
PRODID:NingEventWidget-v1
VERSION:2.0
METHOD:PUBLISH
BEGIN:VTIMEZONE
TZID:Europe/Paris
X-LIC-LOCATION:Europe/Paris
BEGIN:DAYLIGHT
TZOFFSETFROM:+0100
TZOFFSETTO:+0200
TZNAME:CEST
DTSTART:19700329T020000
RRULE:FREQ=YEARLY;BYMONTH=3;BYDAY=-1SU
END:DAYLIGHT
BEGIN:STANDARD
TZOFFSETFROM:+0200
TZOFFSETTO:+0100
TZNAME:CET
DTSTART:19701025T030000
RRULE:FREQ=YEARLY;BYMONTH=10;BYDAY=-1SU
END:STANDARD
END:VTIMEZONE
BEGIN:VEVENT
UID:2485226:Event:1243917
DTSTAMP:20260421T143418Z
SUMMARY:Initiation Massage de Bien-Ãªtre
DESCRIPTION:Initiation au massage de relaxation, sur tables de massage
 s. Cocktail inspirÃ© de diffÃ©rentes techniquesÂ : massages californie
 n, Sensitif Gestalt Massage, Sensitif mÃ©thode Camilli, Chi Nei Tsangâ
 €¦AdaptÃ© aux dÃ©butants et faux dÃ©butants, pour apprendre, redÃ©couv
 rir ou amÃ©liorer -dans le respect de la pudeur de chacun- comment mas
 ser avec dÃ©licatesse et technicitÃ©, donner et recevoir un toucher de
  qualitÃ©, pour sâ€™offrir dans notre vie de vrais moments de plaisir 
 partagÃ©â€¦ 1 fois par mois, prochaines dates:Â Â Â Â Â Â Â Â Â Â Â Â 
 Â Â Â Â Â Â Â Â Â Â Â \nSam 25 mai de 17h Ã  20h avec diner ensemble (
 auberge espagnole)\nDim 16 juin de 15h Ã  18h\nUne participation de 25
 â‚¬ est demandÃ©e pour les 3 heures. Groupe comprenant actuellement pl
 us de femmes, et composÃ© majoritairement de \"faux-dÃ©butants\" capab
 les de pratiquer un massage global de faÃ§on autonome.\n\n\nPour plus 
 d'information, aller sur https://epanews.fr/events/initiation-massage-
 de-bien-tre-1
DTSTART;TZID=Europe/Paris:20130525T170000
DTEND;TZID=Europe/Paris:20130525T220000
CATEGORIES:75
LOCATION:Centre des 2 Moulins, MÃ©tro Place dâ€™Italie ou Nationale Bu
 s 27, 83, 62
WEBSITE:http://mainsetmerveilles.over-blog.com
URL:http://mainsetmerveilles.over-blog.com
CONTACT:06.61.51.83.40
ORGANIZER;CN="FLOCH Anne-Marie":https://epanews.fr/profile/FLOCHAnneMa
 rie
ATTACH;FMTTYPE="image/jpeg":
ATTENDEE;ROLE=REQ-PARTICIPANT;PARTSTAT=ACCEPTED;RSVP=TRUE;CN="FLOCH An
 ne-Marie":https://epanews.fr/profile/FLOCHAnneMarie
END:VEVENT
END:VCALENDAR
