BEGIN:VCALENDAR
PRODID:NingEventWidget-v1
VERSION:2.0
METHOD:PUBLISH
BEGIN:VTIMEZONE
TZID:Europe/Paris
X-LIC-LOCATION:Europe/Paris
BEGIN:DAYLIGHT
TZOFFSETFROM:+0100
TZOFFSETTO:+0200
TZNAME:CEST
DTSTART:19700329T020000
RRULE:FREQ=YEARLY;BYMONTH=3;BYDAY=-1SU
END:DAYLIGHT
BEGIN:STANDARD
TZOFFSETFROM:+0200
TZOFFSETTO:+0100
TZNAME:CET
DTSTART:19701025T030000
RRULE:FREQ=YEARLY;BYMONTH=10;BYDAY=-1SU
END:STANDARD
END:VTIMEZONE
BEGIN:VEVENT
UID:2485226:Event:2937301
DTSTAMP:20260424T223605Z
SUMMARY:Initiation : le langage Universel
DESCRIPTION:Le langage universel et l’expression créatrice.  Au cou
 rs de cette soirée, nous voyagerons au cœur de la conscience où nou
 s découvrirons et goûterons au langage vibratoire, le langage univer
 sel.   AU PROGRAMME :  - Messages de Vie, reliance et unification.  - 
 méditation - Un dessin énergétique sera réalisé par mes soins pou
 r accompagner notre réconciliation avec la conscience universelle.\na
 telier limité  à 10 personnes  Tarif : 30€ par personne, 55€ le
  couple Sur inscription : 06 16 90 30 47\n\nPour plus d'information, a
 ller sur https://epanews.fr/events/initiation-le-langage-universel
DTSTART;TZID=Europe/Paris:20180323T200000
DTEND;TZID=Europe/Paris:20180323T220000
CATEGORIES:71
LOCATION:place du paquier
WEBSITE:http://damien.richard9.free.fr/
URL:http://damien.richard9.free.fr/
CONTACT:06 16 90 30 47
ORGANIZER;CN="Damien Richard":https://epanews.fr/profile/DamienRichard
ATTACH;FMTTYPE="image/jpeg":http://storage.ning.com/topology/rest/1.0/
 file/get/1663725335?profile=original
ATTENDEE;ROLE=REQ-PARTICIPANT;PARTSTAT=ACCEPTED;RSVP=TRUE;CN="Damien R
 ichard":https://epanews.fr/profile/DamienRichard
END:VEVENT
END:VCALENDAR
