BEGIN:VCALENDAR
PRODID:NingEventWidget-v1
VERSION:2.0
METHOD:PUBLISH
BEGIN:VTIMEZONE
TZID:Europe/Paris
X-LIC-LOCATION:Europe/Paris
BEGIN:DAYLIGHT
TZOFFSETFROM:+0100
TZOFFSETTO:+0200
TZNAME:CEST
DTSTART:19700329T020000
RRULE:FREQ=YEARLY;BYMONTH=3;BYDAY=-1SU
END:DAYLIGHT
BEGIN:STANDARD
TZOFFSETFROM:+0200
TZOFFSETTO:+0100
TZNAME:CET
DTSTART:19701025T030000
RRULE:FREQ=YEARLY;BYMONTH=10;BYDAY=-1SU
END:STANDARD
END:VTIMEZONE
BEGIN:VEVENT
UID:2485226:Event:1768839
DTSTAMP:20260421T164713Z
SUMMARY:Initiation LAHOCHI
DESCRIPTION:Initiation LaHoChi\n\nAccessible Ã  tous - sans prÃ© requi
 s\nLe LaHoChi est une technique de soins trÃ¨s puissante transmise par
  l'imposition des mains qui apporte une trÃ¨s haute frÃ©quence de la l
 umiÃ¨re.\nElle est accessible Ã  tous et chacun peut apprendre cette m
 Ã©thode de guÃ©rison simple.\nLaHoChi (qui se prononce lah hoe chee) e
 st une Ã©nergie spirituelle de guÃ©rison aux frÃ©quences vibratoires t
 rÃ¨s Ã©levÃ©es. Elle permet d'accÃ©der Ã  une plus grande comprÃ©hensi
 on et utilisation de l'Energie Universelle de Vie pour soi-mÃªme et po
 ur aider les autres.\nLe LaHoChi peut-Ãªtre utilisÃ© seul ou en combin
 aison avec d'autres systÃ¨mes de soins.\nIl permet d'accÃ©der et d'int
 Ã©grer des Ã©nergies subtiles de guÃ©rison aux frÃ©quences plus Ã©levÃ
 ©es, ouvrant Ã  la conscience multidimensionnelle.\nLe LaHoChi restruc
 ture et Ã©quilibre les corps subtils de l'Etre, particuliÃ¨rement lors
 qu'il y a eu un traumatisme dans le corps Ã©motionnel.\n\nÂ  Â  Â  Â  
 Â  Â  Â  Â  Â  Â  Â  Â  Â  Â  Â  Â  Â  Â  Â Â \n\nL'enseignement LaHoC
 hi a Ã©tÃ© transmis par un maÃ®tre spirituel du chi - le MaÃ®tre LaHoC
 hi - qui existe dans les Royaumes AngÃ©liques auprÃ¨s du MaÃ®tre Spiri
 tuel Satchamar, le 15 mai 1991.Â \n\nProgramme du stage:\n\nVous souha
 itez vous aussi devenir praticien et rÃ©pandre lâ€™energie du Lahochi.
 Â \nÂ \n\nHistorique du LaHoChi.\n\n\n\nFonctionnement Ã©nergÃ©tique d
 u corps. SystÃ¨me des Chakras.\n\n\n\nÃ‰lÃ©vationÂ du taux vibratoire,
  principes et exercices de Krya Yoga..\n\n\n\nLâ€™enseignement thÃ©ori
 que du systÃ¨me de guÃ©rison naturelle LaHoChiÂ :Â il permet de passer
  en revue lâ€™ensemble des connaissances permettant une utilisation ef
 ficace du LaHoChi comme les prÃ©alablesÂ nÃ©cessairesÂ pour activerÂ E
 nergie,Â lesÂ positions des mains, etcâ€¦\n\n\nLâ€™enseignement pratiq
 ue du traitement sur autrui, Ã  distance et de lâ€™auto-traitementÂ : 
 cette Ã©tape permet, aprÃ¨s lâ€™initiation, de mettre en pratique lâ€™
 enseignement du LaHoChi afin de vousÂ entraÃ®nerÂ sans attendre,\n\n\n
 1 MANUEL (35 Pages au format PDF)\n1 INITIATION\n1 Certificat Praticie
 n LaHoChi\nInitiation au LaHoChi - Tarif : 90 Euros\n(hors dÃ©jeuner)\
 nNamastÃ©,\nChristian,\nMaÃ®tre Reiki Usui, Enseignant LaHoChi\nHypnot
 hÃ©rapeute Ericksonien et Humaniste IFHE Paris.\n\nSortir du metro Mon
 tgallet et descendre la rue Montgallet puis prendre la deuxiÃ¨me Ã  dr
 oite, dans le passage Montgallet avant le NÂ°5.Â \nDevant le local ACT
 IVZEN situÃ© juste avant le NÂ° 5 du Passage vers 10h30\n\nPour plus d
 'information, aller sur https://epanews.fr/events/initiation-lahochi
DTSTART;TZID=Europe/Paris:20140330T103000
DTEND;TZID=Europe/Paris:20140330T163000
CATEGORIES:75, 92, 94, 77
LOCATION:PARIS 12
WEBSITE:
URL:
CONTACT:
ORGANIZER;CN=kunndalini:https://epanews.fr/profile/kunndalini
ATTACH;FMTTYPE="image/jpeg":
ATTENDEE;ROLE=REQ-PARTICIPANT;PARTSTAT=ACCEPTED;RSVP=TRUE;CN=kunndalin
 i:https://epanews.fr/profile/kunndalini
END:VEVENT
END:VCALENDAR
