BEGIN:VCALENDAR
PRODID:NingEventWidget-v1
VERSION:2.0
METHOD:PUBLISH
BEGIN:VTIMEZONE
TZID:Europe/Paris
X-LIC-LOCATION:Europe/Paris
BEGIN:DAYLIGHT
TZOFFSETFROM:+0100
TZOFFSETTO:+0200
TZNAME:CEST
DTSTART:19700329T020000
RRULE:FREQ=YEARLY;BYMONTH=3;BYDAY=-1SU
END:DAYLIGHT
BEGIN:STANDARD
TZOFFSETFROM:+0200
TZOFFSETTO:+0100
TZNAME:CET
DTSTART:19701025T030000
RRULE:FREQ=YEARLY;BYMONTH=10;BYDAY=-1SU
END:STANDARD
END:VTIMEZONE
BEGIN:VEVENT
UID:2485226:Event:750985
DTSTAMP:20260420T213222Z
SUMMARY:Initiation Ã  la ThÃ©rapie Cranio-SacrÃ©e
DESCRIPTION:La thÃ©rapie cranio-sacrÃ©e est une thÃ©rapie alternative 
 utilisant un lÃ©ger toucher qui encourage le corps Ã  s'auto-guÃ©rir.\
 nCette thÃ©rapie s'intÃ©resse au mouvement du fluide qui entoure le cr
 Ã¢ne (cranio) et la colonne vertÃ©brale (sacrum) et qui influence l'Ã©
 quilibre du corps entier. Les manipulations lÃ©gÃ¨res effectuÃ©es vise
 nt Ã  harmoniser le mouvement des liquides, des tissus et des os autou
 r de la tÃªte, de la colonne et du bassin. Lâ€™effet se rÃ©percute dan
 s chaque membre, chaque organe et chaque cellule de votre corps via le
  systÃ¨me crÃ¢nio-sacrÃ©.\n\nNajib Saifi vous expliquera lors de ce st
 age les relations entre les os du crÃ¢ne et les mÃ©ridiens, comment rÃ
 ©Ã©quilibrer lâ€™Ã©nergie grÃ¢ce Ã  la micro-respiration des os de la 
 tÃªte...\nCe stage sâ€™adresse aux praticiens de techniques manuelles,
  aux acupuncteurs, aux ostÃ©opathes, aux Ã©tiopathes ayant dÃ©jÃ  suff
 isamment expÃ©rimentÃ© leur pratique.\n\nPour plus d'information, alle
 r sur https://epanews.fr/events/initiation-la-th-rapie-cranio-sacr-e
DTSTART;TZID=Europe/Paris:20120601T000000
DTEND;TZID=Europe/Paris:20120603T235900
CATEGORIES:tous
LOCATION:Paris
WEBSITE:http://file:///Users/chrystounet2/Documents/ART%20DU%20TOUCHER
 /NLartdutoucher.html
URL:http://file:///Users/chrystounet2/Documents/ART%20DU%20TOUCHER/NLa
 rtdutoucher.html
CONTACT:06 13 52 31 88 - 01 43 64 07 19
ORGANIZER;CN="Barbara Anemone l'Art du Toucher":https://epanews.fr/pro
 file/BarbaraAnemeonelartdutouch
ATTACH;FMTTYPE="image/jpeg":http://storage.ning.com/topology/rest/1.0/
 file/get/1662586081?profile=original
ATTENDEE;ROLE=REQ-PARTICIPANT;PARTSTAT=ACCEPTED;RSVP=TRUE;CN="Barbara 
 Anemone l'Art du Toucher":https://epanews.fr/profile/BarbaraAnemeonela
 rtdutouch
END:VEVENT
END:VCALENDAR
