BEGIN:VCALENDAR
PRODID:NingEventWidget-v1
VERSION:2.0
METHOD:PUBLISH
BEGIN:VTIMEZONE
TZID:Europe/Paris
X-LIC-LOCATION:Europe/Paris
BEGIN:DAYLIGHT
TZOFFSETFROM:+0100
TZOFFSETTO:+0200
TZNAME:CEST
DTSTART:19700329T020000
RRULE:FREQ=YEARLY;BYMONTH=3;BYDAY=-1SU
END:DAYLIGHT
BEGIN:STANDARD
TZOFFSETFROM:+0200
TZOFFSETTO:+0100
TZNAME:CET
DTSTART:19701025T030000
RRULE:FREQ=YEARLY;BYMONTH=10;BYDAY=-1SU
END:STANDARD
END:VTIMEZONE
BEGIN:VEVENT
UID:2485226:Event:1846994
DTSTAMP:20260421T202616Z
SUMMARY:Initiation à la Spagythérapie : une médecine qui aime l'hom
 me avec Toni Ceron - we du 26-27 avril 2014 - près de La Rochelle (17
 )
DESCRIPTION:SpagythérapieUne médecine qui aime l’Homme 2 jours d
 ’initiation avec Toni CERON - près de La RochelleWE du 26 au 27 av
 ril 2014 à St Jean de Liversay (17170)\nAlchimie de Paracelse, Tarot
  de Marseille & Yi-KingBases philosophiques et pratiques en Spagythé
 rapie (Référence Paracelse)\nExplications des aspects pratiques, t
 ests divers en thérapie alchimique (outils: filtres, diapasons...)\n
 Thème de naissance et défis par le Tarot alchimique,Lettres Hébr
 aiques et Yi King Triple Renaissance (Périodes Post-natale, Prénat
 ale et avant Prénatale)\nCompréhension de nos trois généalogie
 s\nElaboration de l’élixir phyto-spagyrique\nGéobiologie et Feng
  Shui Alchimique : le bien-être dans l’habitat.Stage ouvert à to
 usOrganisation et Inscriptions :Laurence Armanious, tél : 06 28 45 1
 5 07larmanious@gmail.comou Lydie Boutin (Elixalp) +33 (0)4 50 73 93 31
 boutin.lydie@wanadoo.frLieu de stage (près de La Rochelle) :Annexe d
 u complexe sportif - Rue du 19 mars 1962 17170 St Jean de Liversay Pla
 n d’accès fourni lors des réservations Horaires : de 9h à 12h 
 et de 14h à 18h\nTarif : 180 euros/personne\n\nPour plus d'informati
 on, aller sur https://epanews.fr/events/initiation-la-spagyth-rapie-un
 e-m-decine-qui-aime-l-homme-avec
DTSTART;TZID=Europe/Paris:20140426T090000
DTEND;TZID=Europe/Paris:20140427T180000
CATEGORIES:17
LOCATION:St Jean de Liversay (Dpt 17) près de La Rochelle
WEBSITE:
URL:
CONTACT:http://www.spagytherapie.com/seminaires.php
ORGANIZER;CN="Lydie Spagythérapie":https://epanews.fr/profile/LydieSp
 agytherapie
ATTACH;FMTTYPE="image/jpeg":http://storage.ning.com/topology/rest/1.0/
 file/get/1663095287?profile=original
ATTENDEE;ROLE=REQ-PARTICIPANT;PARTSTAT=ACCEPTED;RSVP=TRUE;CN="Lydie Sp
 agythérapie":https://epanews.fr/profile/LydieSpagytherapie
END:VEVENT
END:VCALENDAR
