BEGIN:VCALENDAR
PRODID:NingEventWidget-v1
VERSION:2.0
METHOD:PUBLISH
BEGIN:VTIMEZONE
TZID:Europe/Paris
X-LIC-LOCATION:Europe/Paris
BEGIN:DAYLIGHT
TZOFFSETFROM:+0100
TZOFFSETTO:+0200
TZNAME:CEST
DTSTART:19700329T020000
RRULE:FREQ=YEARLY;BYMONTH=3;BYDAY=-1SU
END:DAYLIGHT
BEGIN:STANDARD
TZOFFSETFROM:+0200
TZOFFSETTO:+0100
TZNAME:CET
DTSTART:19701025T030000
RRULE:FREQ=YEARLY;BYMONTH=10;BYDAY=-1SU
END:STANDARD
END:VTIMEZONE
BEGIN:VEVENT
UID:2485226:Event:965689
DTSTAMP:20260422T043401Z
SUMMARY:Initiation à la PNL à tarif associatif atelier 7
DESCRIPTION:Septième  atelier d'un cycle de huit.\nCe cycle offre un
 e initiation de qualité professionnelle à tarif associatif.  20€ 
 la demi journée\nS’interroger sur « les piliers » qui influence
 nt profondément nos décisions personnelles. Identifier les différen
 ts niveaux qui nous permettent de mener à bien nos comportements. \n
 Vous n'avez pas suivi les premiers ateliers et vous êtes intéressé,
  téléphonez pour en discuter avec l'enseignante :-)\n\nPour plus d'i
 nformation, aller sur https://epanews.fr/events/initiation-la-pnl-tari
 f-associatif-atelier-7
DTSTART;TZID=Europe/Paris:20121211T090000
DTEND;TZID=Europe/Paris:20121211T123000
CATEGORIES:78
LOCATION:Le Vésinet
WEBSITE:http://www.vivresavie.org
URL:http://www.vivresavie.org
CONTACT:0685592770
ORGANIZER;CN=Nadine:https://epanews.fr/profile/Nadine737
ATTACH;FMTTYPE="image/jpeg":
ATTENDEE;ROLE=REQ-PARTICIPANT;PARTSTAT=ACCEPTED;RSVP=TRUE;CN=Nadine:ht
 tps://epanews.fr/profile/Nadine737
END:VEVENT
END:VCALENDAR
