BEGIN:VCALENDAR
PRODID:NingEventWidget-v1
VERSION:2.0
METHOD:PUBLISH
BEGIN:VTIMEZONE
TZID:Europe/Paris
X-LIC-LOCATION:Europe/Paris
BEGIN:DAYLIGHT
TZOFFSETFROM:+0100
TZOFFSETTO:+0200
TZNAME:CEST
DTSTART:19700329T020000
RRULE:FREQ=YEARLY;BYMONTH=3;BYDAY=-1SU
END:DAYLIGHT
BEGIN:STANDARD
TZOFFSETFROM:+0200
TZOFFSETTO:+0100
TZNAME:CET
DTSTART:19701025T030000
RRULE:FREQ=YEARLY;BYMONTH=10;BYDAY=-1SU
END:STANDARD
END:VTIMEZONE
BEGIN:VEVENT
UID:2485226:Event:3040959
DTSTAMP:20260425T180954Z
SUMMARY:initiation à la lecture des annales akashiques
DESCRIPTION:En séminaire résidentiel, l'initatiation à la lecture d
 es annales akashiques se déroulent sur trois jours.\nAu programme:\nA
 pprendre à se connecter à cet espace sacré\nApprendre à lire les a
 nnales akashiques pour soi\nApprendre à faire une lecture pour autrui
 .\nNombre de places limitées.\nPour tous renseignements nous contacte
 r au: 07 80 01 12 90\n\nPour plus d'information, aller sur https://epa
 news.fr/events/initiation-la-lecture-des-annales-akashiques
DTSTART;TZID=Europe/Paris:20191025T000000
DTEND;TZID=Europe/Paris:20191027T235900
CATEGORIES:33
LOCATION:Gîte le Marinier Vert
WEBSITE:https://www.facebook.com/gitemariniervert
URL:https://www.facebook.com/gitemariniervert
CONTACT:0780011290
ORGANIZER;CN=Catherine:https://epanews.fr/profile/Kate999
ATTACH;FMTTYPE="image/jpeg":
ATTENDEE;ROLE=REQ-PARTICIPANT;PARTSTAT=ACCEPTED;RSVP=TRUE;CN=Catherine
 :https://epanews.fr/profile/Kate999
END:VEVENT
END:VCALENDAR
