BEGIN:VCALENDAR
PRODID:NingEventWidget-v1
VERSION:2.0
METHOD:PUBLISH
BEGIN:VTIMEZONE
TZID:Europe/Paris
X-LIC-LOCATION:Europe/Paris
BEGIN:DAYLIGHT
TZOFFSETFROM:+0100
TZOFFSETTO:+0200
TZNAME:CEST
DTSTART:19700329T020000
RRULE:FREQ=YEARLY;BYMONTH=3;BYDAY=-1SU
END:DAYLIGHT
BEGIN:STANDARD
TZOFFSETFROM:+0200
TZOFFSETTO:+0100
TZNAME:CET
DTSTART:19701025T030000
RRULE:FREQ=YEARLY;BYMONTH=10;BYDAY=-1SU
END:STANDARD
END:VTIMEZONE
BEGIN:VEVENT
UID:2485226:Event:1325857
DTSTAMP:20260422T233011Z
SUMMARY:Initiation aux alternatives concrÃ¨tes
DESCRIPTION:Comme chaque mois, l'universitÃ© populaire de la transitio
 n organise une initiation Ã©colonomique, intitulÃ© Â« alternative conc
 rÃ¨te Â» dans le LubÃ©ron.\nDurant cette journÃ©e vous dÃ©couvrirez de
  multiples technologies et techniques subversives favorisant lâ€™Ã©man
 cipation politique, sociale, culturelleâ€¦ Comme notamment :\n- Des ha
 bitations autonomes en Ã©lectricitÃ© photovoltaÃ¯que et chauffage bois
 .\n-Exemple dâ€™autoconstruction d'habitation lÃ©gÃ¨re Ã  base de matÃ
 ©riaux recyclÃ©s, phyto Ã©puration, litiÃ¨re bio maÃ®trisÃ©e, gestion 
 des dÃ©chets et leur revalorisation.\n-Base de la permaculture. Vers l
 'autonomie alimentaire par la crÃ©ation de forÃªts comestibles.\n-Cons
 truction de vÃ©hicule solaire qui constitue une vÃ©ritable alternative
  aux transport individuel.\n-VidÃ©oconfÃ©rence dÃ©veloppant les raison
 s profondes qui doivent nous inciter Ã  entreprendre une sÃ©cession av
 ec le systÃ¨me d'Ã©change et les diffÃ©rents niveaux d'action du globa
 le au locale.\nVous pourrez dÃ©couvrir au travers dâ€™un remarquable t
 ravail de synthÃ¨se, de plusieurs thÃ©rapeutes social, comment les mÃ©
 canismes de domination perpÃ©tuent leur pouvoir dans notre sociÃ©tÃ©, 
 par l'intermÃ©diaire du systÃ¨me d'Ã©change qui crÃ©e une raretÃ© arti
 ficielle et engendre, pÃ©nuries affectives, famines, exclusion sociale
 , pollutions de la nature etc.\nL'Ã©colonomie dÃ©veloppÃ© ici est une 
 approche de sobriÃ©tÃ© moderne, qui ne remet pas en cause les bÃ©nÃ©fi
 ces acquis par la science pour Ã©carter ses externalitÃ© nÃ©gative.\nP
 articipation Libre,\nle stage commence Ã  midi et finira vers 18 heure
 s en fonction de l'interactivitÃ© des participants. (Le prix libre ne 
 signifie pas qu'il s'agit d'une formation gratuite, mais cela ne doit 
 empÃªcher personnes de venir, le manque de moyens financiers ne doit j
 amais Ãªtre un obstacle Ã  l'instruction. Un tarif libre est un don et
  non plus un Ã©change. Ceux qui disposent de moyens financiers, paye p
 our ceux qui ne l'ont pas ainsi, l'Ã©quilibre est maintenu.)\nÂ RÃ©ser
 vations et dÃ©tails gÃ©ographiques au 06 85 52 11 31\nAodrenn\n\nPour 
 plus d'information, aller sur https://epanews.fr/events/initiation-aux
 -alternatives-concr-tes
DTSTART;TZID=Europe/Paris:20130428T120000
DTEND;TZID=Europe/Paris:20130428T180000
CATEGORIES:84
LOCATION:luberon
WEBSITE:
URL:
CONTACT:0685521131
ORGANIZER;CN=Aodrenn:https://epanews.fr/profile/Aodrenn
ATTACH;FMTTYPE="image/jpeg":http://storage.ning.com/topology/rest/1.0/
 file/get/1662817880?profile=original
ATTENDEE;ROLE=REQ-PARTICIPANT;PARTSTAT=ACCEPTED;RSVP=TRUE;CN=Aodrenn:h
 ttps://epanews.fr/profile/Aodrenn
END:VEVENT
END:VCALENDAR
