BEGIN:VCALENDAR
PRODID:NingEventWidget-v1
VERSION:2.0
METHOD:PUBLISH
BEGIN:VTIMEZONE
TZID:Europe/Paris
X-LIC-LOCATION:Europe/Paris
BEGIN:DAYLIGHT
TZOFFSETFROM:+0100
TZOFFSETTO:+0200
TZNAME:CEST
DTSTART:19700329T020000
RRULE:FREQ=YEARLY;BYMONTH=3;BYDAY=-1SU
END:DAYLIGHT
BEGIN:STANDARD
TZOFFSETFROM:+0200
TZOFFSETTO:+0100
TZNAME:CET
DTSTART:19701025T030000
RRULE:FREQ=YEARLY;BYMONTH=10;BYDAY=-1SU
END:STANDARD
END:VTIMEZONE
BEGIN:VEVENT
UID:2485226:Event:2773899
DTSTAMP:20260422T191216Z
SUMMARY:Soirée atelier : Oracle De Belline : Developper votre Intuiti
 on
DESCRIPTION:Inscription obligatoire auprès de Source du bonheur au 06
  77 16 31 11Participation 30 € 1ère partieAnimé par Véronique,Lo
 rs de cette soirée, nous étudierons :- Qui étaient Marcel Belline e
 t le Mage Jules Charles Ernest Billaudot (Le Mage Edmond) ?- Étude et
  pratique de l'oracle de Belline.Puis nous parcourons le chemin initia
 tique, éclairé par :- les sept planètes (ou astres)- Des 7 cartes s
 ous l'influence du Soleil, de la Lune, de Mercure, de Vénus, de Mars,
  de Jupiter et de Saturne.- des quatre cartes temporelles.Exercices pr
 atiques de tirage en croix ou lettres du prénom...\n\nPour plus d'inf
 ormation, aller sur https://epanews.fr/events/initiation-aux-78-lames-
 du-tarot-1-re-soiree
DTSTART;TZID=Europe/Paris:20170227T190000
DTEND;TZID=Europe/Paris:20170227T220000
CATEGORIES:34
LOCATION:MONTPELLIER
WEBSITE:http://www.sourcedubonheur.fr
URL:http://www.sourcedubonheur.fr
CONTACT:0677163111
ORGANIZER;CN=sb34:https://epanews.fr/profile/sb34
ATTACH;FMTTYPE="image/jpeg":http://storage.ning.com/topology/rest/1.0/
 file/get/1663641196?profile=original
ATTENDEE;ROLE=REQ-PARTICIPANT;PARTSTAT=ACCEPTED;RSVP=TRUE;CN=sb34:http
 s://epanews.fr/profile/sb34
END:VEVENT
END:VCALENDAR
