BEGIN:VCALENDAR
PRODID:NingEventWidget-v1
VERSION:2.0
METHOD:PUBLISH
BEGIN:VTIMEZONE
TZID:Europe/Paris
X-LIC-LOCATION:Europe/Paris
BEGIN:DAYLIGHT
TZOFFSETFROM:+0100
TZOFFSETTO:+0200
TZNAME:CEST
DTSTART:19700329T020000
RRULE:FREQ=YEARLY;BYMONTH=3;BYDAY=-1SU
END:DAYLIGHT
BEGIN:STANDARD
TZOFFSETFROM:+0200
TZOFFSETTO:+0100
TZNAME:CET
DTSTART:19701025T030000
RRULE:FREQ=YEARLY;BYMONTH=10;BYDAY=-1SU
END:STANDARD
END:VTIMEZONE
BEGIN:VEVENT
UID:2485226:Event:2920548
DTSTAMP:20260421T190347Z
SUMMARY:Initiation au Tong Ten - Samedi 13 janvier à Annecy
DESCRIPTION:Initiation au Tong Ren\nDevenez créateur de votre bien-ê
 tre !\nUne thérapie par l'énergie issue de l'acupuncture pour retrou
 ver santé et vitalité \n \nPourquoi participer ?\nVous pratiquez de
 s techniques énergétiques ? L'acupuncture vous intéresse ? Vous sou
 haitez devenir acteur de votre santé et votre vitalité ? Alors, cet 
 atelier est fait pour vous !\n \nComment ca se passe ?\n\npartie thé
 orique (présentation de la méthode et de ses origines)\n\n\npartie p
 ratique (sur les maux du corps et de l'esprit)\n\nA l'issue de cet ate
 lier, vous repartirez avec un support de cours et les planches des poi
 nts\n \nInscriptions\nbaldacchino.d@orange.fr\nhttp://lavoieducoeur.e
 klablog.com\n\nPour plus d'information, aller sur https://epanews.fr/e
 vents/initiation-au-tong-ten-samedi-13-janvier-annecy
DTSTART;TZID=Europe/Paris:20180113T093000
DTEND;TZID=Europe/Paris:20180113T113000
CATEGORIES:74600
LOCATION:Espace Art Forme Santé
WEBSITE:http://lavoieducoeur.eklablog.com/
URL:http://lavoieducoeur.eklablog.com/
CONTACT:0674591100
ORGANIZER;CN="La voie du coeur":https://epanews.fr/profile/Lavoieducoe
 ur
ATTACH;FMTTYPE="image/jpeg":http://storage.ning.com/topology/rest/1.0/
 file/get/1663715358?profile=original
ATTENDEE;ROLE=REQ-PARTICIPANT;PARTSTAT=ACCEPTED;RSVP=TRUE;CN="La voie 
 du coeur":https://epanews.fr/profile/Lavoieducoeur
END:VEVENT
END:VCALENDAR
