BEGIN:VCALENDAR
PRODID:NingEventWidget-v1
VERSION:2.0
METHOD:PUBLISH
BEGIN:VTIMEZONE
TZID:Europe/Paris
X-LIC-LOCATION:Europe/Paris
BEGIN:DAYLIGHT
TZOFFSETFROM:+0100
TZOFFSETTO:+0200
TZNAME:CEST
DTSTART:19700329T020000
RRULE:FREQ=YEARLY;BYMONTH=3;BYDAY=-1SU
END:DAYLIGHT
BEGIN:STANDARD
TZOFFSETFROM:+0200
TZOFFSETTO:+0100
TZNAME:CET
DTSTART:19701025T030000
RRULE:FREQ=YEARLY;BYMONTH=10;BYDAY=-1SU
END:STANDARD
END:VTIMEZONE
BEGIN:VEVENT
UID:2485226:Event:1224951
DTSTAMP:20260421T084730Z
SUMMARY:Initiation au Tantsu
DESCRIPTION:\nLe Tantsu est une forme de massage issue du Watsu, le Sh
 iatsu dans l’eau. En intégrant les bienfaits, il donne de l’espac
 e à l’écoute et à l’empathie. Écoute du souffle, des vibration
 s, du système nerveux, des énergies…Il offre une connexion à doub
 le sens et permet au receveur de donner autant qu’il reçoit. Le Tan
 tsu a une action au niveau biomécanique, osseux, musculaire, lymphati
 que…, au niveau énergétique en intégrant la médecine traditionne
 lle chinoise, ainsi qu’au niveau méditatif. Il permet, en outre, de
  développer la capacité à bouger au sol avec souplesse et fluidité
  et offre de nouvelles solutions grâce à ses différents « Berceau
 x ». Il se dit Tantrique par son approche de l’amour universel á 
 partager. Ces deux jours seront animés par Emmanuel Pastor. \nLa par
 ticipation pour le weekend est de 150€ + 40€ pour l’hébergement
  et la location de la salle. Les repas sont à apporter, une cuisine e
 st a notre disposition.\nRenseignements et inscription auprès de Phil
 ippe Pastor : 06 62 04 97 03 – philippe.pastor@gmail.com\n\nPour plu
 s d'information, aller sur https://epanews.fr/events/initiation-au-tan
 tsu
DTSTART;TZID=Europe/Paris:20130504T100000
DTEND;TZID=Europe/Paris:20130505T170000
CATEGORIES:31
LOCATION:Toulouse
WEBSITE:http://www.shiatsu-toulouse.com
URL:http://www.shiatsu-toulouse.com
CONTACT:06 62 04 97 03
ORGANIZER;CN=Philippe:https://epanews.fr/profile/philippepastor
ATTACH;FMTTYPE="image/jpeg":http://storage.ning.com/topology/rest/1.0/
 file/get/1662776076?profile=original
ATTENDEE;ROLE=REQ-PARTICIPANT;PARTSTAT=ACCEPTED;RSVP=TRUE;CN=Philippe:
 https://epanews.fr/profile/philippepastor
END:VEVENT
END:VCALENDAR
