BEGIN:VCALENDAR
PRODID:NingEventWidget-v1
VERSION:2.0
METHOD:PUBLISH
BEGIN:VTIMEZONE
TZID:Europe/Paris
X-LIC-LOCATION:Europe/Paris
BEGIN:DAYLIGHT
TZOFFSETFROM:+0100
TZOFFSETTO:+0200
TZNAME:CEST
DTSTART:19700329T020000
RRULE:FREQ=YEARLY;BYMONTH=3;BYDAY=-1SU
END:DAYLIGHT
BEGIN:STANDARD
TZOFFSETFROM:+0200
TZOFFSETTO:+0100
TZNAME:CET
DTSTART:19701025T030000
RRULE:FREQ=YEARLY;BYMONTH=10;BYDAY=-1SU
END:STANDARD
END:VTIMEZONE
BEGIN:VEVENT
UID:2485226:Event:2746719
DTSTAMP:20260421T180005Z
SUMMARY:Initiation au Reiki Usui
DESCRIPTION:Bonjour,\nJ'organise régulièrement des initiations au Re
 iki Usui.\nLe Reiki est un Art de guérison Japonais. C'est un vérita
 ble outil d'éveil intérieur et de guérison holistique.\nLes 21 et 2
 2 janvier 2017 aura lieu le prochain stage 1er degré. Il se passe, da
 ns un chalet, en pleine nature...\nIdéal pour une reconnection avec s
 oi-même...\nVous trouverez plus de renseignements sur mon site\nwww.s
 antedivine.com\nJe suis joignable au 06 85 86 98 74 pour toutes demand
 es d'informations.\n\n\n\nPour plus d'information, aller sur https://e
 panews.fr/events/initiation-au-reiki-usui
DTSTART;TZID=Europe/Paris:20160121T093000
DTEND;TZID=Europe/Paris:20160122T173000
CATEGORIES:35
LOCATION:Maure de Bretagne
WEBSITE:http://www.santedivine.com
URL:http://www.santedivine.com
CONTACT:0685869874
ORGANIZER;CN=Lisa:https://epanews.fr/profile/Lisa99
ATTACH;FMTTYPE="image/jpeg":http://storage.ning.com/topology/rest/1.0/
 file/get/1663626321?profile=original
ATTENDEE;ROLE=REQ-PARTICIPANT;PARTSTAT=ACCEPTED;RSVP=TRUE;CN=Lisa:http
 s://epanews.fr/profile/Lisa99
END:VEVENT
END:VCALENDAR
