BEGIN:VCALENDAR
PRODID:NingEventWidget-v1
VERSION:2.0
METHOD:PUBLISH
BEGIN:VTIMEZONE
TZID:Europe/Paris
X-LIC-LOCATION:Europe/Paris
BEGIN:DAYLIGHT
TZOFFSETFROM:+0100
TZOFFSETTO:+0200
TZNAME:CEST
DTSTART:19700329T020000
RRULE:FREQ=YEARLY;BYMONTH=3;BYDAY=-1SU
END:DAYLIGHT
BEGIN:STANDARD
TZOFFSETFROM:+0200
TZOFFSETTO:+0100
TZNAME:CET
DTSTART:19701025T030000
RRULE:FREQ=YEARLY;BYMONTH=10;BYDAY=-1SU
END:STANDARD
END:VTIMEZONE
BEGIN:VEVENT
UID:2485226:Event:2611711
DTSTAMP:20260424T213059Z
SUMMARY:Initiation au Reiki 1er degrÃ©
DESCRIPTION:Bonjour Ã  tous,\nJe suis heureuse de vous informer que le
  prochain stage de Reiki aura lieu le 28 et 29 mai au Pont du Secret Ã
   Paimpont....\nLe Reiki est un art de guÃ©rison japonais qui se prati
 que par imposition des mains sur le corps physique ouÂ  Ã©thÃ©rique. S
 imple, puissant et naturel, il apporte le bien-Ãªtre tant au niveau ph
 ysique, Ã©motionnel que mental. Le Reiki harmonise le corps et l'espri
 t, apaise les tensions. PrÃ©ventif et curatif, il rÃ©Ã©quilibre les Ã©
 nergies corporelles et permet de lever les blocages, souvent responsab
 les des dysfonctionnements.\n\nle Reiki n'est ni une doctrine, ni une 
 religion. Il n'interfÃ¨re absolument pas avecÂ les croyances de l'indi
 vidu, mais est un outil d' Ã‰veil intÃ©rieur,Â Â d'ouverture du cÅ“ur 
 et de la conscience. Il respecte le chemin de chacun et son rythme pro
 pre d'Ã©volution. Tout le monde peut-Ãªtre initiÃ© aux Reiki et bÃ©nÃ©
 ficier de son Ã©nergie.Â  DÃ¨s le premier degrÃ©, vous pouvez le prati
 quer sur vous ou votre entourage, mais Ã©galement sur les plantes, les
  animaux, les minÃ©raux...\nVous pouvez bien Ã©videmment faire suivre 
 lâ€™information... Au plaisir !\nLisa CrucianiÂ Â Â Â Â Â  www.santedi
 vine.com\n\n\n\n\nPour plus d'information, aller sur https://epanews.f
 r/events/initiation-au-reiki-1er-degr-1
DTSTART;TZID=Europe/Paris:20160528T000000
DTEND;TZID=Europe/Paris:20160529T235900
CATEGORIES:35
LOCATION:Gite du Pont du Secret
WEBSITE:http://www.santedivine.com
URL:http://www.santedivine.com
CONTACT:0685869874
ORGANIZER;CN=Lisa:https://epanews.fr/profile/Lisa99
ATTACH;FMTTYPE="image/jpeg":http://storage.ning.com/topology/rest/1.0/
 file/get/1663544252?profile=original
ATTENDEE;ROLE=REQ-PARTICIPANT;PARTSTAT=ACCEPTED;RSVP=TRUE;CN=Lisa:http
 s://epanews.fr/profile/Lisa99
END:VEVENT
END:VCALENDAR
