BEGIN:VCALENDAR
PRODID:NingEventWidget-v1
VERSION:2.0
METHOD:PUBLISH
BEGIN:VTIMEZONE
TZID:Europe/Paris
X-LIC-LOCATION:Europe/Paris
BEGIN:DAYLIGHT
TZOFFSETFROM:+0100
TZOFFSETTO:+0200
TZNAME:CEST
DTSTART:19700329T020000
RRULE:FREQ=YEARLY;BYMONTH=3;BYDAY=-1SU
END:DAYLIGHT
BEGIN:STANDARD
TZOFFSETFROM:+0200
TZOFFSETTO:+0100
TZNAME:CET
DTSTART:19701025T030000
RRULE:FREQ=YEARLY;BYMONTH=10;BYDAY=-1SU
END:STANDARD
END:VTIMEZONE
BEGIN:VEVENT
UID:2485226:Event:262905
DTSTAMP:20260420T124513Z
SUMMARY:Initiation au premier degré de REIKI à Donzère
DESCRIPTION:Stage de 1er degré de reiki animé par Laurence Sainte-Ma
 rie et Marlène BESCOND à Donzère dans la drome, les 28 et 29 avril 
 2011\n \ntarif 190 €uro\n\nPour plus d'information, aller sur https
 ://epanews.fr/events/initiation-au-premier-degre-de
DTSTART;TZID=Europe/Paris:20110428T210000
DTEND;TZID=Europe/Paris:20110429T060000
CATEGORIES:26
LOCATION:DONZERE
WEBSITE:
URL:
CONTACT:0620128862
ORGANIZER;CN="Marlène BESCOND":https://epanews.fr/profile/Marlene150
ATTACH;FMTTYPE="image/jpeg":http://storage.ning.com/topology/rest/1.0/
 file/get/1662409694?profile=original
ATTENDEE;ROLE=REQ-PARTICIPANT;PARTSTAT=ACCEPTED;RSVP=TRUE;CN="Marlène
  BESCOND":https://epanews.fr/profile/Marlene150
END:VEVENT
END:VCALENDAR
