BEGIN:VCALENDAR
PRODID:NingEventWidget-v1
VERSION:2.0
METHOD:PUBLISH
BEGIN:VTIMEZONE
TZID:Europe/Paris
X-LIC-LOCATION:Europe/Paris
BEGIN:DAYLIGHT
TZOFFSETFROM:+0100
TZOFFSETTO:+0200
TZNAME:CEST
DTSTART:19700329T020000
RRULE:FREQ=YEARLY;BYMONTH=3;BYDAY=-1SU
END:DAYLIGHT
BEGIN:STANDARD
TZOFFSETFROM:+0200
TZOFFSETTO:+0100
TZNAME:CET
DTSTART:19701025T030000
RRULE:FREQ=YEARLY;BYMONTH=10;BYDAY=-1SU
END:STANDARD
END:VTIMEZONE
BEGIN:VEVENT
UID:2485226:Event:514361
DTSTAMP:20260422T035109Z
SUMMARY:Initiation au massage en lemniscate
DESCRIPTION:Issu de l'école de l'enseignement antroposophique de Rudo
 lf Steiner, le massage en Lemniscate est une méthode de relaxation tr
 ès douce aux huiles essentielles ; elle a une action calmante sur le 
 stress et les états émotionnels. La rythmicité du mouvement de l'in
 fini, en forme de 8, entraîne une profonde détente grâce à laquell
 e la personne retrouve sa \"respiration\". Son action harmonise et rev
 italise et il s'en dégage un profond sentiment d'unité.\n \n\nPour 
 plus d'information, aller sur https://epanews.fr/events/initiation-au-
 massage-en-lemniscate
DTSTART;TZID=Europe/Paris:20110923T000000
DTEND;TZID=Europe/Paris:20110925T235900
CATEGORIES:13
LOCATION:Fuveau près d'Aix en Provence
WEBSITE:
URL:
CONTACT:
ORGANIZER;CN="Véronique LARDERET":https://epanews.fr/profile/Veroniqu
 eLARDERET
ATTACH;FMTTYPE="image/jpeg":
ATTENDEE;ROLE=REQ-PARTICIPANT;PARTSTAT=ACCEPTED;RSVP=TRUE;CN="Véroniq
 ue LARDERET":https://epanews.fr/profile/VeroniqueLARDERET
END:VEVENT
END:VCALENDAR
