BEGIN:VCALENDAR
PRODID:NingEventWidget-v1
VERSION:2.0
METHOD:PUBLISH
BEGIN:VTIMEZONE
TZID:Europe/Paris
X-LIC-LOCATION:Europe/Paris
BEGIN:DAYLIGHT
TZOFFSETFROM:+0100
TZOFFSETTO:+0200
TZNAME:CEST
DTSTART:19700329T020000
RRULE:FREQ=YEARLY;BYMONTH=3;BYDAY=-1SU
END:DAYLIGHT
BEGIN:STANDARD
TZOFFSETFROM:+0200
TZOFFSETTO:+0100
TZNAME:CET
DTSTART:19701025T030000
RRULE:FREQ=YEARLY;BYMONTH=10;BYDAY=-1SU
END:STANDARD
END:VTIMEZONE
BEGIN:VEVENT
UID:2485226:Event:2543814
DTSTAMP:20260421T230152Z
SUMMARY:Initiation au deuxième degré de Reiki Usui
DESCRIPTION:Infos et programme sur alef-therapies\n\nPour plus d'info
 rmation, aller sur https://epanews.fr/events/initiation-au-deuxi-me-de
 gr-de-reiki-usui
DTSTART;TZID=Europe/Paris:20160521T090000
DTEND;TZID=Europe/Paris:20160522T160000
CATEGORIES:974
LOCATION:L'Energie Créatrice, La Réunion
WEBSITE:http://www.alef-therapies.com/reiki.ws
URL:http://www.alef-therapies.com/reiki.ws
CONTACT:0692683269
ORGANIZER;CN="Anne-Laurence Fritsch":https://epanews.fr/profile/AnneLa
 urenceFritsch
ATTACH;FMTTYPE="image/jpeg":http://storage.ning.com/topology/rest/1.0/
 file/get/1663505193?profile=original
ATTENDEE;ROLE=REQ-PARTICIPANT;PARTSTAT=ACCEPTED;RSVP=TRUE;CN="Anne-Lau
 rence Fritsch":https://epanews.fr/profile/AnneLaurenceFritsch
END:VEVENT
END:VCALENDAR
