BEGIN:VCALENDAR
PRODID:NingEventWidget-v1
VERSION:2.0
METHOD:PUBLISH
BEGIN:VTIMEZONE
TZID:Europe/Paris
X-LIC-LOCATION:Europe/Paris
BEGIN:DAYLIGHT
TZOFFSETFROM:+0100
TZOFFSETTO:+0200
TZNAME:CEST
DTSTART:19700329T020000
RRULE:FREQ=YEARLY;BYMONTH=3;BYDAY=-1SU
END:DAYLIGHT
BEGIN:STANDARD
TZOFFSETFROM:+0200
TZOFFSETTO:+0100
TZNAME:CET
DTSTART:19701025T030000
RRULE:FREQ=YEARLY;BYMONTH=10;BYDAY=-1SU
END:STANDARD
END:VTIMEZONE
BEGIN:VEVENT
UID:2485226:Event:1716524
DTSTAMP:20260423T200712Z
SUMMARY:Initiation au Baume de Yeshua
DESCRIPTION:A l'occasion du passage de Myriam Ã  Vence, prÃ¨s de Nice 
 et avant son dÃ©part pour les Etats-Unis, voilÃ  une occasion exceptio
 nnelle de recevoir l'initiation au Baume de Yeshua...Le Baume de Yeshu
 aDans cette initiation, transmission, je vous propose de nous relier d
 ans l'Ã©nergie Christique , de recevoir le Baume de Jeshua afin qu'il 
 coule et s'Ã©coule Ã  nouveau dans la multiplication joyeuse et la sim
 plicitÃ©.Vivons ensemble le miracle de l'amour qui guÃ©rit et nous ill
 umine de joie et de bonheur maintenant !Ã  partir de 18h jusqu'Ã  23 h
  (environ), le 15 ou le 16 janvier 2014.en deux parties :la premiÃ¨re:
  mÃ©ditation en guidance dans la lumiÃ¨re Christique lecture \"Le Baum
 e de Jeshua l'Ã©ternel abandon\" ensuite nous recevons le Baume ensemb
 le puis individuellement (auto soin)deuxiÃ¨me partie:Â par deux nous n
 ous donnerons le Baume allongÃ©s, pensez Ã  prendre ce qu'il faut pour
  Ãªtre au chaud tapis yoga ou autres ou tables de massages (suivant la
  salle), serviettes, plaids, et de l' huile neutre, j'apporterai de l'
 huile essentielle de nard.Ensuite, aprÃ¨s un temps d'intÃ©gration just
 e, vous pourrez le donner dans les soins, ou juste pour le plaisir d'Ã
 ªtre dans le Baume pour vous seul, dans votre couple ou famille et ent
 re amis par exemple, et le faire circuler en redonnant des Transmissio
 ns autour de vous.lieu: Venceprix libre Ã  partir de 40 euros Merci !!
 !!si vous sentez d'Ãªtre lÃ  et que dans l'instant vous n'avez pas cet
 te somme venez quand mÃªme !!venir Ã  deux si possible minimum pour l'
 Ã©change des soins, merci.de tout coeur, dans l'amour et la lumiÃ¨re q
 ui nous relie,MyriamMyriam CÃ©cile Malembic06 38 81 73 44www.el-aima.c
 omAjnaÃ«l06 64 92 47 29\n\nPour plus d'information, aller sur https://
 epanews.fr/events/initiation-au-baume-de-yeshua
DTSTART;TZID=Europe/Paris:20140115T180000
DTEND;TZID=Europe/Paris:20140116T180000
CATEGORIES:06
LOCATION:Vence
WEBSITE:
URL:
CONTACT:06 64 92 47 29
ORGANIZER:Myriam et AjnaÃ«l
ATTACH;FMTTYPE="image/jpeg":
ATTENDEE;ROLE=REQ-PARTICIPANT;PARTSTAT=ACCEPTED;RSVP=TRUE;CN=AjnaÃ«l:h
 ttps://epanews.fr/profile/DeleidiDidier
END:VEVENT
END:VCALENDAR
