BEGIN:VCALENDAR
PRODID:NingEventWidget-v1
VERSION:2.0
METHOD:PUBLISH
BEGIN:VTIMEZONE
TZID:Europe/Paris
X-LIC-LOCATION:Europe/Paris
BEGIN:DAYLIGHT
TZOFFSETFROM:+0100
TZOFFSETTO:+0200
TZNAME:CEST
DTSTART:19700329T020000
RRULE:FREQ=YEARLY;BYMONTH=3;BYDAY=-1SU
END:DAYLIGHT
BEGIN:STANDARD
TZOFFSETFROM:+0200
TZOFFSETTO:+0100
TZNAME:CET
DTSTART:19701025T030000
RRULE:FREQ=YEARLY;BYMONTH=10;BYDAY=-1SU
END:STANDARD
END:VTIMEZONE
BEGIN:VEVENT
UID:2485226:Event:152931
DTSTAMP:20260423T104434Z
SUMMARY:Initiation Ã  la maÃ®trise du Reiki Initiatique par un maÃ®tre
  authentique
DESCRIPTION:Le stage dâ€™initiation au troisiÃ¨me degrÃ© de ReikiÂ Ini
 tiatique Ã©quivalent Ã  la maÃ®trise de la mÃ©thode Usui se dÃ©roulera
  le des 22 et 23 novembreÂ Ã  Toulon. Cette formation ouvre la porte Ã
   lâ€™enseignement du Reiki Initiatique et Ã  la capacitÃ© de donner l
 es initiations des trois degrÃ©s traditionnels. Renseignements auprÃ¨s
  de Paul Wagner- 06 03 47 73 31 Le coÃ»t de la formation est de700â‚¬.
 Â (payable en 2X)\n\nPour plus d'information, aller sur https://epanew
 s.fr/events/initiation-a-la-maitrise-de
DTSTART;TZID=Europe/Paris:20141122T090000
DTEND;TZID=Europe/Paris:20141123T180000
CATEGORIES:tous
LOCATION:toulon
WEBSITE:http://www.reiki-france.info
URL:http://www.reiki-france.info
CONTACT:06 03 47 73 31
ORGANIZER;CN="Wagner Paul":https://epanews.fr/profile/WagnerPaul
ATTACH;FMTTYPE="image/jpeg":http://storage.ning.com/topology/rest/1.0/
 file/get/1662359263?profile=original
ATTENDEE;ROLE=REQ-PARTICIPANT;PARTSTAT=ACCEPTED;RSVP=TRUE;CN="Wagner P
 aul":https://epanews.fr/profile/WagnerPaul
ATTENDEE;ROLE=REQ-PARTICIPANT;PARTSTAT=TENTATIVE;RSVP=TRUE;CN="THERAPY
  BIEN ETRE":https://epanews.fr/profile/cristalviolet
END:VEVENT
END:VCALENDAR
