BEGIN:VCALENDAR
PRODID:NingEventWidget-v1
VERSION:2.0
METHOD:PUBLISH
BEGIN:VTIMEZONE
TZID:Europe/Paris
X-LIC-LOCATION:Europe/Paris
BEGIN:DAYLIGHT
TZOFFSETFROM:+0100
TZOFFSETTO:+0200
TZNAME:CEST
DTSTART:19700329T020000
RRULE:FREQ=YEARLY;BYMONTH=3;BYDAY=-1SU
END:DAYLIGHT
BEGIN:STANDARD
TZOFFSETFROM:+0200
TZOFFSETTO:+0100
TZNAME:CET
DTSTART:19701025T030000
RRULE:FREQ=YEARLY;BYMONTH=10;BYDAY=-1SU
END:STANDARD
END:VTIMEZONE
BEGIN:VEVENT
UID:2485226:Event:107843
DTSTAMP:20260420T090850Z
SUMMARY:Initiation à la Diksha de Saï Maa le 1er novembre à Six Fou
 rs Les Plages
DESCRIPTION:Bienvenu à la Diksha de Sai Maa\nApporter l'Illumination 
 dans le monde\n\n\"Une Communauté sans la tradition de la Diksha est 
 comme un désert. Seule la sagesse peut nous faire comprendre comment 
 rendre notre vie sainte et sanctifiée. Cette sagesse même est connue
  sous le nom de Diksha.\"\n\nLe mot sanscrit Diksha vient de la racine
  da, donner, et k?i, détruire. C'est donc le processus qui transmet l
 a connaissance transcendentale, spirituelle tout en détruisant les gr
 aines de l'ignorance. Plusieurs grands Maîtres ont offert la Diksha s
 ous différentes formes. Toutefois, Sai Maa Lakshmi Devi nous a amené
  une approche simple et systématique que tous peuvent apprendre facil
 ement et offrir. Nous l'appelons la Diksha de Sai Maa.\n\nNous entrons
  dans une époque remarquable dans le monde, différente de toute autr
 e époque dans l'histoire. Il y a un Grand Changement, une transformat
 ion universelle prend place qui propulsera l'humanité du doute et la 
 confusion, à l'Âge d'Or, la Paix, la Compréhension. De nouvelles é
 nergies puissantes sont générées et émises dans le monde entier. D
 e grandes bénédictions sont déversées sur nous.\n\nSai Maa nous di
 t que l'outil le plus efficace pour tirer le plein avantage de ces Cad
 eaux Divins est la pratique de donner et recevoir la Diksha de Sai Maa
 . Cette Énergie Pure et cette Lumière amorce un processus de changem
 ent dynamique, activant nos pouvoirs spirituels en dormance, libérant
  tout ce qui ne nous sert plus, ouvrant le chemin de l'Illumination.\n
 Dans un geste de générosité sans précédent, Sai Maa offre libreme
 nt ce cadeau magnifique au monde. Si vous êtes prêts à amener la Di
 ksha de Sai Maa à vos amis et votre famille, prêts à former les aut
 res et être un acteur du Grand Changement, l'information suivante est
  disponible afin de vous supporter.\n\nMerci pour votre engagement env
 ers vous-même et la réalisation de l'Illumination Globale.\n\nSaï M
 aa ne sera pas physiquement présente et c'est Thomas qui vous transme
 ttra l'initiation.\nParticipation aux frais: 5.- €uros\n\nEn savoir 
 plus sur Saï Maa:\nhttp://www.humanityinunityintl.org/site%20francais
 /quiestmaa.htm\n\nPour plus d'information, aller sur https://epanews.f
 r/events/initiation-a-la-diksha-de-sai
DTSTART;TZID=Europe/Paris:20101101T180000
DTEND;TZID=Europe/Paris:20101101T200000
CATEGORIES:83
LOCATION:Salle Rosa Verde
WEBSITE:http://fr.mappy.com/#d=154,+Avenue+de+la+Mer,+83140,+Six-Fours
 -les-Plages,+Provence-Alpes-Côte+d'Azur,+France&p=map
URL:http://fr.mappy.com/#d=154,+Avenue+de+la+Mer,+83140,+Six-Fours-les
 -Plages,+Provence-Alpes-Côte+d'Azur,+France&p=map
CONTACT:06 80 16 97 57
ORGANIZER;CN="biotom83 (Thomas Voisin)":https://epanews.fr/profile/bio
 tom84
ATTACH;FMTTYPE="image/jpeg":http://storage.ning.com/topology/rest/1.0/
 file/get/1662337146?profile=original
ATTENDEE;ROLE=REQ-PARTICIPANT;PARTSTAT=ACCEPTED;RSVP=TRUE;CN=Presence:
 https://epanews.fr/profile/Presence
ATTENDEE;ROLE=REQ-PARTICIPANT;PARTSTAT=ACCEPTED;RSVP=TRUE;CN=SONATH:ht
 tps://epanews.fr/profile/SONATH
ATTENDEE;ROLE=REQ-PARTICIPANT;PARTSTAT=ACCEPTED;RSVP=TRUE;CN=Temperanc
 e83:https://epanews.fr/profile/Temperance83
ATTENDEE;ROLE=REQ-PARTICIPANT;PARTSTAT=ACCEPTED;RSVP=TRUE;CN=Lucia:htt
 ps://epanews.fr/profile/LUCCIA
ATTENDEE;ROLE=REQ-PARTICIPANT;PARTSTAT=ACCEPTED;RSVP=TRUE;CN="evelyne 
 desplantes":https://epanews.fr/profile/lecoeurdelame
ATTENDEE;ROLE=REQ-PARTICIPANT;PARTSTAT=ACCEPTED;RSVP=TRUE;CN="nanylys(
 reiki 3)":https://epanews.fr/profile/nanylyswanadoofr
ATTENDEE;ROLE=REQ-PARTICIPANT;PARTSTAT=ACCEPTED;RSVP=TRUE;CN="Bezard s
 abryna":https://epanews.fr/profile/Bezardsabryna
ATTENDEE;ROLE=REQ-PARTICIPANT;PARTSTAT=ACCEPTED;RSVP=TRUE;CN=martine:h
 ttps://epanews.fr/profile/martinefreeman
ATTENDEE;ROLE=REQ-PARTICIPANT;PARTSTAT=ACCEPTED;RSVP=TRUE;CN=thagora:h
 ttps://epanews.fr/profile/fournier
ATTENDEE;ROLE=REQ-PARTICIPANT;PARTSTAT=ACCEPTED;RSVP=TRUE;CN=papillon:
 https://epanews.fr/profile/papillon
ATTENDEE;ROLE=REQ-PARTICIPANT;PARTSTAT=ACCEPTED;RSVP=TRUE;CN="Eric Beh
 oteguy Hypno-Magnétisme":https://epanews.fr/profile/EricBehoteguy
ATTENDEE;ROLE=REQ-PARTICIPANT;PARTSTAT=ACCEPTED;RSVP=TRUE;CN=Marie:htt
 ps://epanews.fr/profile/Marie830
ATTENDEE;ROLE=REQ-PARTICIPANT;PARTSTAT=ACCEPTED;RSVP=TRUE;CN="biotom83
  (Thomas Voisin)":https://epanews.fr/profile/biotom84
ATTENDEE;ROLE=REQ-PARTICIPANT;PARTSTAT=TENTATIVE;RSVP=TRUE;CN=helios-s
 ante-bien-etre:https://epanews.fr/profile/sylviamur
ATTENDEE;ROLE=REQ-PARTICIPANT;PARTSTAT=TENTATIVE;RSVP=TRUE;CN=kimimela
 :https://epanews.fr/profile/kimimela
ATTENDEE;ROLE=REQ-PARTICIPANT;PARTSTAT=TENTATIVE;RSVP=TRUE;CN=Roselyne
 :https://epanews.fr/profile/Roselyne
ATTENDEE;ROLE=REQ-PARTICIPANT;PARTSTAT=TENTATIVE;RSVP=TRUE;CN=Mahenoa:
 https://epanews.fr/profile/Mahenoa
ATTENDEE;ROLE=REQ-PARTICIPANT;PARTSTAT=TENTATIVE;RSVP=TRUE;CN=chrystie
 :https://epanews.fr/profile/chrystie
ATTENDEE;ROLE=REQ-PARTICIPANT;PARTSTAT=TENTATIVE;RSVP=TRUE;CN="Yin yan
 g":https://epanews.fr/profile/BrigitteDravet
ATTENDEE;ROLE=REQ-PARTICIPANT;PARTSTAT=TENTATIVE;RSVP=TRUE;CN="caradon
 na serge":https://epanews.fr/profile/caradonnaserge
ATTENDEE;ROLE=REQ-PARTICIPANT;PARTSTAT=TENTATIVE;RSVP=TRUE;CN=letiziaw
 endy:https://epanews.fr/profile/letiziawendy
END:VEVENT
END:VCALENDAR
