BEGIN:VCALENDAR
PRODID:NingEventWidget-v1
VERSION:2.0
METHOD:PUBLISH
BEGIN:VTIMEZONE
TZID:Europe/Paris
X-LIC-LOCATION:Europe/Paris
BEGIN:DAYLIGHT
TZOFFSETFROM:+0100
TZOFFSETTO:+0200
TZNAME:CEST
DTSTART:19700329T020000
RRULE:FREQ=YEARLY;BYMONTH=3;BYDAY=-1SU
END:DAYLIGHT
BEGIN:STANDARD
TZOFFSETFROM:+0200
TZOFFSETTO:+0100
TZNAME:CET
DTSTART:19701025T030000
RRULE:FREQ=YEARLY;BYMONTH=10;BYDAY=-1SU
END:STANDARD
END:VTIMEZONE
BEGIN:VEVENT
UID:2485226:Event:590622
DTSTAMP:20260423T165951Z
SUMMARY:Initiation 1er degré Reiki Usui
DESCRIPTION:Programme :\nEtude des positions des mains\nLes cinq princ
 ipes du Reiki\n4 initiations ouvrant le canal par lequel l’Énergie 
 circule\nApprentissage de kanji (mudra)\nAuto-traitement pour se soign
 er soi même\nSoin court pour revitaliser rapidement\nSoin complet\nHa
 rmonisation des chakras\nMéditations Si vous souhaitez être initié,
  inscrivez vous auprès de Laetita\n04 94 95 59 03\nNombre de places m
 ini : 2 maxi : 6 Coût : 200€/week-end\n40€ à verser pour la rés
 ervation\n \n \n\nPour plus d'information, aller sur https://epanews
 .fr/events/initiation-1er-degr-reiki-usui
DTSTART;TZID=Europe/Paris:20111126T000000
DTEND;TZID=Europe/Paris:20111127T235900
CATEGORIES:83, 06
LOCATION:Fréjus
WEBSITE:
URL:
CONTACT:06 48 60 31 74
ORGANIZER;CN="LEMOINE ISABELLE":https://epanews.fr/profile/LEMOINEISAB
 ELLE
ATTACH;FMTTYPE="image/jpeg":http://storage.ning.com/topology/rest/1.0/
 file/get/1662491068?profile=original
ATTENDEE;ROLE=REQ-PARTICIPANT;PARTSTAT=ACCEPTED;RSVP=TRUE;CN="LEMOINE 
 ISABELLE":https://epanews.fr/profile/LEMOINEISABELLE
END:VEVENT
END:VCALENDAR
