BEGIN:VCALENDAR
PRODID:NingEventWidget-v1
VERSION:2.0
METHOD:PUBLISH
BEGIN:VTIMEZONE
TZID:Europe/Paris
X-LIC-LOCATION:Europe/Paris
BEGIN:DAYLIGHT
TZOFFSETFROM:+0100
TZOFFSETTO:+0200
TZNAME:CEST
DTSTART:19700329T020000
RRULE:FREQ=YEARLY;BYMONTH=3;BYDAY=-1SU
END:DAYLIGHT
BEGIN:STANDARD
TZOFFSETFROM:+0200
TZOFFSETTO:+0100
TZNAME:CET
DTSTART:19701025T030000
RRULE:FREQ=YEARLY;BYMONTH=10;BYDAY=-1SU
END:STANDARD
END:VTIMEZONE
BEGIN:VEVENT
UID:2485226:Event:2731574
DTSTAMP:20260422T193126Z
SUMMARY:Modification demandée
DESCRIPTION:Bienvenue au site de la Roche aux fées, en Touraine pour 
 cet événement extraodinaire ! Une initiation aux portes du temps à 
 la rencontre d'autres dimensions ! et bien plus encore avec notre ense
 ignant FALC'HUN DAGON qui nous vient de Brocéliande .... Ce site date
  de plus de - 4500 ans avant notre ère.Il est en lien avec des mémoi
 res énergétiques . Ces lieux ont été mis en place sur des points d
 e notre terre en résonance avec l'univers et selon des savoirs  de h
 autes consciences... INITIATION à l l'énergie quantique liée aux po
 rtes sacrées et approche de diverses initiations qui ouvrent notre co
 mpréhension à la reconnexion énergétique en lien avec la terre, et
  aussi en lien avec nos mémoires cellulaires par des méthodes ancest
 rales\n\nPour plus d'information, aller sur https://epanews.fr/events/
 initiaition-aux-portes-sacrees
DTSTART;TZID=Europe/Paris:20161111T134500
DTEND;TZID=Europe/Paris:20161111T174500
CATEGORIES:37
LOCATION:Saint Antoine du Rocher (37)
WEBSITE:
URL:
CONTACT:06 27 09 54 61
ORGANIZER;CN="MARIE CLAUDE VINCENDEAU":https://epanews.fr/profile/MARI
 ECLAUDEVINCENDEAU
ATTACH;FMTTYPE="image/jpeg":http://storage.ning.com/topology/rest/1.0/
 file/get/1663614818?profile=original
ATTENDEE;ROLE=REQ-PARTICIPANT;PARTSTAT=ACCEPTED;RSVP=TRUE;CN="MARIE CL
 AUDE VINCENDEAU":https://epanews.fr/profile/MARIECLAUDEVINCENDEAU
END:VEVENT
END:VCALENDAR
