BEGIN:VCALENDAR
PRODID:NingEventWidget-v1
VERSION:2.0
METHOD:PUBLISH
BEGIN:VTIMEZONE
TZID:Europe/Paris
X-LIC-LOCATION:Europe/Paris
BEGIN:DAYLIGHT
TZOFFSETFROM:+0100
TZOFFSETTO:+0200
TZNAME:CEST
DTSTART:19700329T020000
RRULE:FREQ=YEARLY;BYMONTH=3;BYDAY=-1SU
END:DAYLIGHT
BEGIN:STANDARD
TZOFFSETFROM:+0200
TZOFFSETTO:+0100
TZNAME:CET
DTSTART:19701025T030000
RRULE:FREQ=YEARLY;BYMONTH=10;BYDAY=-1SU
END:STANDARD
END:VTIMEZONE
BEGIN:VEVENT
UID:2485226:Event:2970406
DTSTAMP:20260425T045544Z
SUMMARY:Incarner votre mission de vie
DESCRIPTION:INCARNER VOTRE MISSION DE VIE\nQuel est le but de ma vieâ€
 ‰?\nQuâ€™est-ce que je fais ici sur Terreâ€‰?\nQuelle est ma place ou 
 quel est mon rĂ´le dans la transformation actuelle de lâ€™humanitĂ©â€‰
 ?\nÂ VoilĂ  les questions que je me suis posĂ©es pendant longtemps et 
 que beaucoup dâ€™entre vous se posent aussi. Et une rĂ©ponse satisfais
 ante Ă  ces questions ne peut venir que lorsque vous ĂŞtes capable dâ€
 ™avoir un regard sur ces questions Ă  partir deÂ la perspective plus Ă
 ©levĂ©e de votre conscience multidimensionnelleÂ et non pas Ă  partir 
 de la personnalitĂ©.\nâ€‹Cet atelier nâ€™est pas du Â«â€‰dĂ©veloppemen
 t personnelâ€‰Â», câ€™est plutĂ´tÂ un processus de transformation alch
 imiqueÂ qui vous aidera Ă  mieux comprendre votre nature unique et com
 ment lâ€™exprimer.\nâ€‹Dans cet atelier, nous explorerons ce qu'est le
  concept d'une \"mission de vie\" et comment le redĂ©finir Ă  la lumiĂ
 ¨re de la perspective multidimensionnelle de votre ĂŞtre.\n\nâ€‹RedĂ©f
 inir ce qu'est votre mission de vie.\n\n\nPourquoi vous ne trouvez pas
  votre mission de vieâ€‰?\n\nEst-il possible de connaitre le but premi
 er de votre incarnation actuelle sur terreâ€‰?\n\nPouvez-vous passer Ă
   cĂ´tĂ© de votre mission de vieâ€‰?\n\nQue faut-il savoir ou faire po
 ur remplir votre mission de vieâ€‰?\n\nQue veut dire la notion de Â«â€
 ‰service aux autresâ€‰Â» par rapport Ă  votre mission de vieâ€‰?\n\nCo
 mment vous libĂ©rer de la peur de ne pas accomplir votre mission.\nRet
 rouver votre libertĂ© intĂ©rieure et la capacitĂ© de faire des choix Ă
 ©clairĂ©s.\n\nC'est un atelier trĂ¨s expĂ©rientiel qui vous aidera Ă  
 reconnecter avec votre savoir intĂ©rieur...\nPour plus d'informations,
  cliquez ici.Â \nPour toute demande d'information, Ă©crivez Ă  : nouve
 llerealite@hotmail.com\n\n\n\n\nPour plus d'information, aller sur htt
 ps://epanews.fr/events/incarner-votre-mission-de-vie
DTSTART;TZID=Europe/Paris:20180929T100000
DTEND;TZID=Europe/Paris:20180930T170000
CATEGORIES:88230
LOCATION:Plainfaing entre l'Alsace et les Vosges
WEBSITE:https://www.nouvellerealite.com/incarner-mission-de-vie
URL:https://www.nouvellerealite.com/incarner-mission-de-vie
CONTACT:nouvellerealite@hotmail.com
ORGANIZER;CN="Nouvelle RĂ©alitĂ©":https://epanews.fr/profile/NouvelleR
 ealite
ATTACH;FMTTYPE="image/jpeg":http://storage.ning.com/topology/rest/1.0/
 file/get/1663752615?profile=original
ATTENDEE;ROLE=REQ-PARTICIPANT;PARTSTAT=ACCEPTED;RSVP=TRUE;CN="Nouvelle
  RĂ©alitĂ©":https://epanews.fr/profile/NouvelleRealite
END:VEVENT
END:VCALENDAR
