BEGIN:VCALENDAR
PRODID:NingEventWidget-v1
VERSION:2.0
METHOD:PUBLISH
BEGIN:VTIMEZONE
TZID:Europe/Paris
X-LIC-LOCATION:Europe/Paris
BEGIN:DAYLIGHT
TZOFFSETFROM:+0100
TZOFFSETTO:+0200
TZNAME:CEST
DTSTART:19700329T020000
RRULE:FREQ=YEARLY;BYMONTH=3;BYDAY=-1SU
END:DAYLIGHT
BEGIN:STANDARD
TZOFFSETFROM:+0200
TZOFFSETTO:+0100
TZNAME:CET
DTSTART:19701025T030000
RRULE:FREQ=YEARLY;BYMONTH=10;BYDAY=-1SU
END:STANDARD
END:VTIMEZONE
BEGIN:VEVENT
UID:2485226:Event:2330437
DTSTAMP:20260422T190356Z
SUMMARY:Incarner les aspects positifs de Soi
DESCRIPTION:Je vous propose dâ€™aller rencontrer les facettes de vous-
 mÃªme qui sont Ã  lâ€™origine des freins et des barriÃ¨res qui empÃªch
 ent la rÃ©alisation de vosÂ objectifs de Vie. Ensuite nous irons renco
 ntrer les aspects positifs, enfouis sous de vieux programmes, prÃ¨s Ã 
  Ã©merger pour vous soutenir dans votre incarnation. Â \nLe matin sera
  dÃ©diÃ© Ã  un travail en forÃªt avec lâ€™Ã©nergie de la nature et du 
 vivant. On travaillera sur la libÃ©ration des schÃ©mas inconscients qu
 i empÃªchent lâ€™accÃ¨s Ã  lâ€™Etre.Â \nLâ€™aprÃ¨s midi sera dÃ©diÃ© Ã
   la rÃ©habilitation des aspects positifs de Soi, avec lâ€™infusion de
 s ondes de formes gÃ©omÃ©triques qui seront prÃ©sentes et qui accompag
 neront le processus, nous ancrerons plus dâ€™Ã©motions positives pour 
 une Vie meilleure.Â \nÂ \nHoraires : 10h-17h Â  Â  Â Â Avec une coupur
 e pour dÃ©jeuner, le repas de midi sera pris dans la convivialitÃ© aut
 our de plats Ã  partager que chacun apportera.\nPrix : Â 88â‚¬. Â Arrh
 es : 44â‚¬ Ã  lâ€™inscription qui ne sera pas encaissÃ© avant lâ€™atel
 ier.\nLieu : Brunoy Â (lâ€™adresse vous sera communiquÃ©e lors de lâ€™
 inscription) â€“ Pied du RER D Ã  25mn du centre de Paris\nContact :Â 
 06.24.56.12.25Â \nMail : samia.aissaoui@free.fr\n- See more at: http:/
 /larteveil.com/#sthash.6LUFHSzM.dpuf\n\nPour plus d'information, aller
  sur https://epanews.fr/events/incarner-les-aspects-positifs-de-soi
DTSTART;TZID=Europe/Paris:20150531T000000
DTEND;TZID=Europe/Paris:20150531T235900
CATEGORIES:91
LOCATION:Brunoy
WEBSITE:http://larteveil.com/atelier-incarner-les-emotions-positives/
URL:http://larteveil.com/atelier-incarner-les-emotions-positives/
CONTACT:+33624561225
ORGANIZER;CN="Samia AISSAOUI":https://epanews.fr/profile/SamiaAISSAOUI
ATTACH;FMTTYPE="image/jpeg":http://storage.ning.com/topology/rest/1.0/
 file/get/1663403167?profile=original
ATTENDEE;ROLE=REQ-PARTICIPANT;PARTSTAT=ACCEPTED;RSVP=TRUE;CN="Samia AI
 SSAOUI":https://epanews.fr/profile/SamiaAISSAOUI
END:VEVENT
END:VCALENDAR
